BEGIN:VCALENDAR
VERSION:2.0
PRODID:-//Fuveau - ECPv6.15.17.1//NONSGML v1.0//EN
CALSCALE:GREGORIAN
METHOD:PUBLISH
X-WR-CALNAME:Fuveau
X-ORIGINAL-URL:https://www.mairiedefuveau.fr
X-WR-CALDESC:Évènements pour Fuveau
REFRESH-INTERVAL;VALUE=DURATION:PT1H
X-Robots-Tag:noindex
X-PUBLISHED-TTL:PT1H
BEGIN:VTIMEZONE
TZID:Europe/Paris
BEGIN:DAYLIGHT
TZOFFSETFROM:+0100
TZOFFSETTO:+0200
TZNAME:CEST
DTSTART:20230326T010000
END:DAYLIGHT
BEGIN:STANDARD
TZOFFSETFROM:+0200
TZOFFSETTO:+0100
TZNAME:CET
DTSTART:20231029T010000
END:STANDARD
BEGIN:DAYLIGHT
TZOFFSETFROM:+0100
TZOFFSETTO:+0200
TZNAME:CEST
DTSTART:20240331T010000
END:DAYLIGHT
BEGIN:STANDARD
TZOFFSETFROM:+0200
TZOFFSETTO:+0100
TZNAME:CET
DTSTART:20241027T010000
END:STANDARD
BEGIN:DAYLIGHT
TZOFFSETFROM:+0100
TZOFFSETTO:+0200
TZNAME:CEST
DTSTART:20250330T010000
END:DAYLIGHT
BEGIN:STANDARD
TZOFFSETFROM:+0200
TZOFFSETTO:+0100
TZNAME:CET
DTSTART:20251026T010000
END:STANDARD
END:VTIMEZONE
BEGIN:VEVENT
DTSTART;VALUE=DATE:20240617
DTEND;VALUE=DATE:20240816
DTSTAMP:20260421T100054
CREATED:20240618T071101Z
LAST-MODIFIED:20240618T071101Z
UID:9228-1718582400-1723766399@www.mairiedefuveau.fr
SUMMARY:Inscription transports scolaires - Rentrée 2024/2025
DESCRIPTION:3Volets10x21_InscriptionScolaire2024_web
URL:https://www.mairiedefuveau.fr/evenement/inscription-transports-scolaires-rentree-2024-2025/
CATEGORIES:Transports
ATTACH;FMTTYPE=image/jpeg:https://www.mairiedefuveau.fr/wp-content/uploads/2024/06/InscriptionScolaire2024-Insta-1080x1350-1.jpg
END:VEVENT
END:VCALENDAR