BEGIN:VCALENDAR
VERSION:2.0
PRODID:-//Fuveau - ECPv6.15.17.1//NONSGML v1.0//EN
CALSCALE:GREGORIAN
METHOD:PUBLISH
X-WR-CALNAME:Fuveau
X-ORIGINAL-URL:https://www.mairiedefuveau.fr
X-WR-CALDESC:Évènements pour Fuveau
REFRESH-INTERVAL;VALUE=DURATION:PT1H
X-Robots-Tag:noindex
X-PUBLISHED-TTL:PT1H
BEGIN:VTIMEZONE
TZID:Europe/Paris
BEGIN:DAYLIGHT
TZOFFSETFROM:+0100
TZOFFSETTO:+0200
TZNAME:CEST
DTSTART:20240331T010000
END:DAYLIGHT
BEGIN:STANDARD
TZOFFSETFROM:+0200
TZOFFSETTO:+0100
TZNAME:CET
DTSTART:20241027T010000
END:STANDARD
BEGIN:DAYLIGHT
TZOFFSETFROM:+0100
TZOFFSETTO:+0200
TZNAME:CEST
DTSTART:20250330T010000
END:DAYLIGHT
BEGIN:STANDARD
TZOFFSETFROM:+0200
TZOFFSETTO:+0100
TZNAME:CET
DTSTART:20251026T010000
END:STANDARD
BEGIN:DAYLIGHT
TZOFFSETFROM:+0100
TZOFFSETTO:+0200
TZNAME:CEST
DTSTART:20260329T010000
END:DAYLIGHT
BEGIN:STANDARD
TZOFFSETFROM:+0200
TZOFFSETTO:+0100
TZNAME:CET
DTSTART:20261025T010000
END:STANDARD
END:VTIMEZONE
BEGIN:VEVENT
DTSTART;TZID=Europe/Paris:20250908T090000
DTEND;TZID=Europe/Paris:20251002T120000
DTSTAMP:20260419T224253
CREATED:20250826T135433Z
LAST-MODIFIED:20250826T135433Z
UID:11251-1757322000-1759406400@www.mairiedefuveau.fr
SUMMARY:Enquête publique - Modif n°1 PLUi
DESCRIPTION:Suite à un incident de procédure de l’enquête publique de juillet et afin de sécuriser cette dernière\, la Métropole Aix-Marseille-Provence en accord avec la commission d’enquête\, vous informe d’une nouvelle enquête publique portant sur le même dossier de modification n°1 du PLUi. \nDu mardi 16 septembre 9h au jeudi 2 octobre 2025 12h \nLe projet de modification n°1 du Plan Local d’Urbanisme intercommunal du Pays d’Aix a pour objets : \n\nDe corriger des erreurs matérielles\,\nD’apporter des précisions ou de corriger certaines rédactions du règlement écrit et d’Orientations d’Aménagement (OAP) sectorielles\,\nD’adapter sur certains secteurs des éléments du règlement graphique : hauteur\, coefficient d’emprise au sol\, zone de bonne desserte et d’implantation\, mixité.\nD’effectuer des ajustements sur certains emplacements réservés.\n\nDossier consultable en Mairie de Fuveau (1er étage) : \n26 Boulevard Loubet – 13710 Fuveau \nHoraires : \n\nLundi\, mardi\, jeudi : 9h – 12h et 14h – 17h\nMercredi : 9h – 12h\nVendredi : 9h – 12h et 14h – 16h30\n\nSi la porte principale est fermée\, sonnez à l’arrière du bâtiment au Cabinet du Maire. \nVous pouvez également consulter le dossier et déposer vos observations en ligne : \nhttps://www.registre-numerique.fr/ep-modification1-plui-paysdaix
URL:https://www.mairiedefuveau.fr/evenement/enquete-publique-modif-n1-plui/
CATEGORIES:Territoire
ATTACH;FMTTYPE=image/jpeg:https://www.mairiedefuveau.fr/wp-content/uploads/2025/08/2025_AFFICHE_EP_v2_01-scaled.jpg
END:VEVENT
END:VCALENDAR