BEGIN:VCALENDAR
VERSION:2.0
PRODID:-//Fuveau - ECPv6.15.17.1//NONSGML v1.0//EN
CALSCALE:GREGORIAN
METHOD:PUBLISH
X-ORIGINAL-URL:https://www.mairiedefuveau.fr
X-WR-CALDESC:Évènements pour Fuveau
REFRESH-INTERVAL;VALUE=DURATION:PT1H
X-Robots-Tag:noindex
X-PUBLISHED-TTL:PT1H
BEGIN:VTIMEZONE
TZID:Europe/Paris
BEGIN:DAYLIGHT
TZOFFSETFROM:+0100
TZOFFSETTO:+0200
TZNAME:CEST
DTSTART:20240331T010000
END:DAYLIGHT
BEGIN:STANDARD
TZOFFSETFROM:+0200
TZOFFSETTO:+0100
TZNAME:CET
DTSTART:20241027T010000
END:STANDARD
BEGIN:DAYLIGHT
TZOFFSETFROM:+0100
TZOFFSETTO:+0200
TZNAME:CEST
DTSTART:20250330T010000
END:DAYLIGHT
BEGIN:STANDARD
TZOFFSETFROM:+0200
TZOFFSETTO:+0100
TZNAME:CET
DTSTART:20251026T010000
END:STANDARD
BEGIN:DAYLIGHT
TZOFFSETFROM:+0100
TZOFFSETTO:+0200
TZNAME:CEST
DTSTART:20260329T010000
END:DAYLIGHT
BEGIN:STANDARD
TZOFFSETFROM:+0200
TZOFFSETTO:+0100
TZNAME:CET
DTSTART:20261025T010000
END:STANDARD
BEGIN:DAYLIGHT
TZOFFSETFROM:+0100
TZOFFSETTO:+0200
TZNAME:CEST
DTSTART:20270328T010000
END:DAYLIGHT
BEGIN:STANDARD
TZOFFSETFROM:+0200
TZOFFSETTO:+0100
TZNAME:CET
DTSTART:20271031T010000
END:STANDARD
END:VTIMEZONE
BEGIN:VEVENT
DTSTART;TZID=Europe/Paris:20251213T190000
DTEND;TZID=Europe/Paris:20251213T203000
DTSTAMP:20260419T235605
CREATED:20251127T150133Z
LAST-MODIFIED:20251127T150133Z
UID:11598-1765652400-1765657800@www.mairiedefuveau.fr
SUMMARY:Chants de Noël
DESCRIPTION:
URL:https://www.mairiedefuveau.fr/evenement/chants-de-noel-2/
CATEGORIES:Concert,Culture
ATTACH;FMTTYPE=image/jpeg:https://www.mairiedefuveau.fr/wp-content/uploads/2025/11/les-chants-de-noel-fuveau-scaled.jpg
END:VEVENT
BEGIN:VEVENT
DTSTART;TZID=Europe/Paris:20251214T170000
DTEND;TZID=Europe/Paris:20251214T180000
DTSTAMP:20260419T235605
CREATED:20251127T150654Z
LAST-MODIFIED:20251127T150721Z
UID:11605-1765731600-1765735200@www.mairiedefuveau.fr
SUMMARY:Blanche Neige
DESCRIPTION:Billetterie en ligne
URL:https://www.mairiedefuveau.fr/evenement/blanche-neige/
CATEGORIES:Culture,Théâtre
ATTACH;FMTTYPE=image/jpeg:https://www.mairiedefuveau.fr/wp-content/uploads/2025/11/2025-12-14-KRONOPE-1-scaled.jpg
END:VEVENT
BEGIN:VEVENT
DTSTART;TZID=Europe/Paris:20251218T190000
DTEND;TZID=Europe/Paris:20251218T203000
DTSTAMP:20260419T235605
CREATED:20251127T151419Z
LAST-MODIFIED:20251127T151419Z
UID:11607-1766084400-1766089800@www.mairiedefuveau.fr
SUMMARY:Jeudi littéraire : Polars
DESCRIPTION:
URL:https://www.mairiedefuveau.fr/evenement/jeudi-litteraire-polars/
CATEGORIES:Culture
ATTACH;FMTTYPE=image/jpeg:https://www.mairiedefuveau.fr/wp-content/uploads/2025/11/2025-12-18-Jeudi-litteraire-polar.jpg
END:VEVENT
BEGIN:VEVENT
DTSTART;TZID=Europe/Paris:20251218T190000
DTEND;TZID=Europe/Paris:20251218T203000
DTSTAMP:20260419T235605
CREATED:20251215T130047Z
LAST-MODIFIED:20251215T130047Z
UID:11678-1766084400-1766089800@www.mairiedefuveau.fr
SUMMARY:Concert de jazz
DESCRIPTION:
URL:https://www.mairiedefuveau.fr/evenement/concert-de-jazz/
CATEGORIES:Concert,Culture
ATTACH;FMTTYPE=image/jpeg:https://www.mairiedefuveau.fr/wp-content/uploads/2025/12/2025-12-18-concert-eleves-jazz-dec.jpg
END:VEVENT
BEGIN:VEVENT
DTSTART;TZID=Europe/Paris:20251221T190000
DTEND;TZID=Europe/Paris:20251221T203000
DTSTAMP:20260419T235605
CREATED:20251112T082805Z
LAST-MODIFIED:20251127T090552Z
UID:11538-1766343600-1766349000@www.mairiedefuveau.fr
SUMMARY:Et la lumière fut !
DESCRIPTION:Billetterie en ligne
URL:https://www.mairiedefuveau.fr/evenement/et-la-lumiere-fut-2/
CATEGORIES:Concert,Culture
ATTACH;FMTTYPE=image/jpeg:https://www.mairiedefuveau.fr/wp-content/uploads/2025/11/2025-12-21-Swing-scaled.jpg
END:VEVENT
BEGIN:VEVENT
DTSTART;TZID=Europe/Paris:20260104T183000
DTEND;TZID=Europe/Paris:20260104T193000
DTSTAMP:20260419T235605
CREATED:20251215T132303Z
LAST-MODIFIED:20251215T132303Z
UID:11683-1767551400-1767555000@www.mairiedefuveau.fr
SUMMARY:Feu d'artifice
DESCRIPTION:
URL:https://www.mairiedefuveau.fr/evenement/feu-dartifice-4/
CATEGORIES:Animation,Municipalité
ATTACH;FMTTYPE=image/jpeg:https://www.mairiedefuveau.fr/wp-content/uploads/2025/12/Feu-dartifice-2026.jpg
END:VEVENT
BEGIN:VEVENT
DTSTART;TZID=Europe/Paris:20260109T203000
DTEND;TZID=Europe/Paris:20260109T213000
DTSTAMP:20260419T235605
CREATED:20251216T100204Z
LAST-MODIFIED:20251216T100204Z
UID:11694-1767990600-1767994200@www.mairiedefuveau.fr
SUMMARY:Concert des profs au profit des Restos du Coeur
DESCRIPTION:
URL:https://www.mairiedefuveau.fr/evenement/concert-des-profs-au-profit-des-restos-du-coeur/
CATEGORIES:Concert,Culture
ATTACH;FMTTYPE=image/jpeg:https://www.mairiedefuveau.fr/wp-content/uploads/2025/12/2026-01-09-concert-des-profs.jpg
END:VEVENT
BEGIN:VEVENT
DTSTART;TZID=Europe/Paris:20260110T183000
DTEND;TZID=Europe/Paris:20260110T210000
DTSTAMP:20260419T235605
CREATED:20251216T100710Z
LAST-MODIFIED:20251216T100710Z
UID:11697-1768069800-1768078800@www.mairiedefuveau.fr
SUMMARY:Cérémonie des vœux du Maire à la population
DESCRIPTION:
URL:https://www.mairiedefuveau.fr/evenement/ceremonie-des-voeux-du-maire-a-la-population/
CATEGORIES:Concert,Municipalité
ATTACH;FMTTYPE=image/jpeg:https://www.mairiedefuveau.fr/wp-content/uploads/2025/12/2026-01-10-Invitation-voeux-Maire-1.jpg
END:VEVENT
BEGIN:VEVENT
DTSTART;TZID=Europe/Paris:20260123T190000
DTEND;TZID=Europe/Paris:20260123T203000
DTSTAMP:20260419T235605
CREATED:20260109T133236Z
LAST-MODIFIED:20260109T133236Z
UID:11730-1769194800-1769200200@www.mairiedefuveau.fr
SUMMARY:Nuit de la lecture - Soirée jeux
DESCRIPTION:
URL:https://www.mairiedefuveau.fr/evenement/nuit-de-la-lecture-soiree-jeux/
CATEGORIES:Animation,Culture
ATTACH;FMTTYPE=image/png:https://www.mairiedefuveau.fr/wp-content/uploads/2026/01/Nuits-de-la-lecture-a-Fuveau.png
END:VEVENT
BEGIN:VEVENT
DTSTART;TZID=Europe/Paris:20260131T150000
DTEND;TZID=Europe/Paris:20260131T160000
DTSTAMP:20260419T235605
CREATED:20260122T110222Z
LAST-MODIFIED:20260122T110355Z
UID:11784-1769871600-1769875200@www.mairiedefuveau.fr
SUMMARY:Concert - Souffleur de rêve
DESCRIPTION:Billetterie en ligne
URL:https://www.mairiedefuveau.fr/evenement/concert-souffleur-de-reve/
CATEGORIES:Concert,Culture
ATTACH;FMTTYPE=image/jpeg:https://www.mairiedefuveau.fr/wp-content/uploads/2026/01/2026-01-31-SOUFFLEUR.jpg
END:VEVENT
BEGIN:VEVENT
DTSTART;TZID=Europe/Paris:20260207T183000
DTEND;TZID=Europe/Paris:20260207T203000
DTSTAMP:20260419T235605
CREATED:20260122T110619Z
LAST-MODIFIED:20260206T131957Z
UID:11787-1770489000-1770496200@www.mairiedefuveau.fr
SUMMARY:Festival - Mo(uve)ments partagés - COMPLET
DESCRIPTION:
URL:https://www.mairiedefuveau.fr/evenement/festival-mouvements-partages/
CATEGORIES:Culture,Danse
ATTACH;FMTTYPE=image/jpeg:https://www.mairiedefuveau.fr/wp-content/uploads/2026/01/2026-02-07-festival-scaled.jpg
END:VEVENT
BEGIN:VEVENT
DTSTART;TZID=Europe/Paris:20260213T203000
DTEND;TZID=Europe/Paris:20260213T213000
DTSTAMP:20260419T235605
CREATED:20260122T110810Z
LAST-MODIFIED:20260122T110810Z
UID:11789-1771014600-1771018200@www.mairiedefuveau.fr
SUMMARY:Concert - A la Bon'heur
DESCRIPTION:
URL:https://www.mairiedefuveau.fr/evenement/concert-a-la-bonheur/
CATEGORIES:Concert,Culture
ATTACH;FMTTYPE=image/jpeg:https://www.mairiedefuveau.fr/wp-content/uploads/2026/01/2026-02-13-bonheur-scaled.jpg
END:VEVENT
BEGIN:VEVENT
DTSTART;TZID=Europe/Paris:20260305T190000
DTEND;TZID=Europe/Paris:20260305T200000
DTSTAMP:20260419T235605
CREATED:20260122T111016Z
LAST-MODIFIED:20260122T111016Z
UID:11791-1772737200-1772740800@www.mairiedefuveau.fr
SUMMARY:Jeudi littéraire
DESCRIPTION:Billetterie en ligne
URL:https://www.mairiedefuveau.fr/evenement/jeudi-litteraire-2/
CATEGORIES:Culture
ATTACH;FMTTYPE=image/png:https://www.mairiedefuveau.fr/wp-content/uploads/2025/09/jeudi-litt.png
END:VEVENT
BEGIN:VEVENT
DTSTART;TZID=Europe/Paris:20260306T203000
DTEND;TZID=Europe/Paris:20260306T220000
DTSTAMP:20260419T235605
CREATED:20260122T111204Z
LAST-MODIFIED:20260122T111248Z
UID:11793-1772829000-1772834400@www.mairiedefuveau.fr
SUMMARY:Spectacle - Goldi "La vérité sur Boucle d'Or & le Gangsta Rap"
DESCRIPTION:Billetterie en ligne
URL:https://www.mairiedefuveau.fr/evenement/spectacle-goldi-la-verite-sur-boucle-dor-le-gangsta-rap/
CATEGORIES:Culture
ATTACH;FMTTYPE=image/jpeg:https://www.mairiedefuveau.fr/wp-content/uploads/2026/01/2026-03-06-Goldi-scaled.jpg
END:VEVENT
BEGIN:VEVENT
DTSTART;TZID=Europe/Paris:20260307T143000
DTEND;TZID=Europe/Paris:20260307T153000
DTSTAMP:20260419T235605
CREATED:20260203T074355Z
LAST-MODIFIED:20260203T074355Z
UID:11823-1772893800-1772897400@www.mairiedefuveau.fr
SUMMARY:Répétition Batucada Carnaval
DESCRIPTION:
URL:https://www.mairiedefuveau.fr/evenement/repetition-batucada-carnaval-2/
CATEGORIES:Concert,Culture
ATTACH;FMTTYPE=image/jpeg:https://www.mairiedefuveau.fr/wp-content/uploads/2026/02/2026-03-28-Carnaval1.jpg
END:VEVENT
BEGIN:VEVENT
DTSTART;TZID=Europe/Paris:20260307T190000
DTEND;TZID=Europe/Paris:20260307T203000
DTSTAMP:20260419T235605
CREATED:20260122T111507Z
LAST-MODIFIED:20260122T111507Z
UID:11796-1772910000-1772915400@www.mairiedefuveau.fr
SUMMARY:Théâtre - Prends garde à toi
DESCRIPTION:Billetterie en ligne
URL:https://www.mairiedefuveau.fr/evenement/theatre-prends-garde-a-toi/
CATEGORIES:Culture,Théâtre
ATTACH;FMTTYPE=image/jpeg:https://www.mairiedefuveau.fr/wp-content/uploads/2026/01/2026-03-07-PGAT-Fuveau-scaled.jpg
END:VEVENT
BEGIN:VEVENT
DTSTART;TZID=Europe/Paris:20260320T200000
DTEND;TZID=Europe/Paris:20260320T213000
DTSTAMP:20260419T235605
CREATED:20260225T131933Z
LAST-MODIFIED:20260225T131933Z
UID:11897-1774036800-1774042200@www.mairiedefuveau.fr
SUMMARY:Cinéado
DESCRIPTION:Billetterie en ligne
URL:https://www.mairiedefuveau.fr/evenement/cineado/
CATEGORIES:Culture
ATTACH;FMTTYPE=image/jpeg:https://www.mairiedefuveau.fr/wp-content/uploads/2026/02/Cine-ados-20-mars-2026-1.jpg
END:VEVENT
BEGIN:VEVENT
DTSTART;TZID=Europe/Paris:20260321T103000
DTEND;TZID=Europe/Paris:20260321T120000
DTSTAMP:20260419T235605
CREATED:20260317T135206Z
LAST-MODIFIED:20260318T100650Z
UID:11958-1774089000-1774094400@www.mairiedefuveau.fr
SUMMARY:Conseil d'installation de la nouvelle équipe municipale
DESCRIPTION:
URL:https://www.mairiedefuveau.fr/evenement/conseil-dinstallation-de-la-nouvelle-equipe-municipale/
CATEGORIES:Municipalité
ATTACH;FMTTYPE=image/jpeg:https://www.mairiedefuveau.fr/wp-content/uploads/2026/03/1.jpg
END:VEVENT
BEGIN:VEVENT
DTSTART;TZID=Europe/Paris:20260328T100000
DTEND;TZID=Europe/Paris:20260328T120000
DTSTAMP:20260419T235605
CREATED:20260227T081504Z
LAST-MODIFIED:20260227T081504Z
UID:11907-1774692000-1774699200@www.mairiedefuveau.fr
SUMMARY:Chasse aux oeufs
DESCRIPTION:
URL:https://www.mairiedefuveau.fr/evenement/chasse-aux-oeufs-3/
CATEGORIES:Animation,Associations,Municipalité
ATTACH;FMTTYPE=image/png:https://www.mairiedefuveau.fr/wp-content/uploads/2026/02/2026-03-28-Chasse-aux-oeufs.png
END:VEVENT
BEGIN:VEVENT
DTSTART;TZID=Europe/Paris:20260328T140000
DTEND;TZID=Europe/Paris:20260328T163000
DTSTAMP:20260419T235605
CREATED:20260122T111723Z
LAST-MODIFIED:20260122T111723Z
UID:11798-1774706400-1774715400@www.mairiedefuveau.fr
SUMMARY:Carnaval "Monstres\, sorcières et compagnie"
DESCRIPTION:
URL:https://www.mairiedefuveau.fr/evenement/carnaval-monstres-sorcieres-et-compagnie/
CATEGORIES:Animation,Culture
ATTACH;FMTTYPE=image/jpeg:https://www.mairiedefuveau.fr/wp-content/uploads/2026/01/2026-03-28-Carnaval.jpg
END:VEVENT
BEGIN:VEVENT
DTSTART;TZID=Europe/Paris:20260402T181500
DTEND;TZID=Europe/Paris:20260402T200000
DTSTAMP:20260419T235605
CREATED:20260203T132232Z
LAST-MODIFIED:20260203T132233Z
UID:11838-1775153700-1775160000@www.mairiedefuveau.fr
SUMMARY:Conférence - La bête du Gévaudan
DESCRIPTION:Billetterie en ligne
URL:https://www.mairiedefuveau.fr/evenement/conference-la-bete-du-gevaudan/
CATEGORIES:Culture
ATTACH;FMTTYPE=image/jpeg:https://www.mairiedefuveau.fr/wp-content/uploads/2026/02/2026-04-02-GEVAUDAN-scaled.jpg
END:VEVENT
BEGIN:VEVENT
DTSTART;TZID=Europe/Paris:20260404T163000
DTEND;TZID=Europe/Paris:20260404T173000
DTSTAMP:20260419T235605
CREATED:20260310T143845Z
LAST-MODIFIED:20260310T143845Z
UID:11928-1775320200-1775323800@www.mairiedefuveau.fr
SUMMARY:Concert Muzik' Zak
DESCRIPTION:
URL:https://www.mairiedefuveau.fr/evenement/concert-muzik-zak/
CATEGORIES:Concert,Culture
ATTACH;FMTTYPE=image/jpeg:https://www.mairiedefuveau.fr/wp-content/uploads/2026/03/2026-04-04-concert-zik-zak.jpg
END:VEVENT
BEGIN:VEVENT
DTSTART;VALUE=DATE:20260409
DTEND;VALUE=DATE:20260428
DTSTAMP:20260419T235605
CREATED:20260408T091829Z
LAST-MODIFIED:20260408T092204Z
UID:12091-1775692800-1777334399@www.mairiedefuveau.fr
SUMMARY:Exposition Sorcières\, Monstres & Cie
DESCRIPTION:
URL:https://www.mairiedefuveau.fr/evenement/exposition-monstres-cie/
CATEGORIES:Culture
ATTACH;FMTTYPE=image/png:https://www.mairiedefuveau.fr/wp-content/uploads/2026/04/2026-04-09-Aff_Expo2026_MonstresBiblio_01.png
END:VEVENT
BEGIN:VEVENT
DTSTART;TZID=Europe/Paris:20260422T150000
DTEND;TZID=Europe/Paris:20260422T163000
DTSTAMP:20260419T235605
CREATED:20260331T120827Z
LAST-MODIFIED:20260331T120827Z
UID:12048-1776870000-1776875400@www.mairiedefuveau.fr
SUMMARY:L'avenir\, c'était mieux avant
DESCRIPTION:Billetterie en ligne
URL:https://www.mairiedefuveau.fr/evenement/lavenir-cetait-mieux-avant/
CATEGORIES:Culture
ATTACH;FMTTYPE=image/jpeg:https://www.mairiedefuveau.fr/wp-content/uploads/2026/03/2026-04-22-Lavenir.jpg
END:VEVENT
BEGIN:VEVENT
DTSTART;TZID=Europe/Paris:20260426T113000
DTEND;TZID=Europe/Paris:20260426T120000
DTSTAMP:20260419T235605
CREATED:20260413T092924Z
LAST-MODIFIED:20260413T092924Z
UID:12113-1777203000-1777204800@www.mairiedefuveau.fr
SUMMARY:Cérémonie commémorative
DESCRIPTION:
URL:https://www.mairiedefuveau.fr/evenement/ceremonie-commemorative-9/
CATEGORIES:Municipalité
ATTACH;FMTTYPE=image/jpeg:https://www.mairiedefuveau.fr/wp-content/uploads/2026/04/2026-04-26-commemoration-scaled.jpg
END:VEVENT
BEGIN:VEVENT
DTSTART;TZID=Europe/Paris:20260611T190000
DTEND;TZID=Europe/Paris:20260611T200000
DTSTAMP:20260419T235605
CREATED:20260408T093137Z
LAST-MODIFIED:20260408T093220Z
UID:12094-1781204400-1781208000@www.mairiedefuveau.fr
SUMMARY:On lirait le sud : Joël Baqué
DESCRIPTION:Gratuit sur réservation : Billetterie en ligne \nLa Région Sud fait briller aussi les talents littéraires ! La bibliothèque municipale de Fuveau participe à la 5e édition de cet évènement en accueillant Joël Baqué\, publié chez P.O.L. \nDans ses romans\, ses personnages semblent se débattre contre le destin\, des anti-héros\, des solitaires qui subissent leur vie et font de leur mieux pour être heureux malgré tout. \nCes rencontres permettent de nourrir notre curiosité sur l’art d’écrire et assouvissent notre soif de connaissances. Venez vous joindre à nous en toute simplicité et convivialité\, vous repartirez peut-être avec la recette du bonheur !
URL:https://www.mairiedefuveau.fr/evenement/on-lirait-le-sud-joel-baque/
CATEGORIES:Culture
ATTACH;FMTTYPE=image/jpeg:https://www.mairiedefuveau.fr/wp-content/uploads/2026/04/2026-06-11-OLLS.jpg
END:VEVENT
END:VCALENDAR