BEGIN:VCALENDAR
VERSION:2.0
PRODID:-//Fuveau - ECPv6.15.17.1//NONSGML v1.0//EN
CALSCALE:GREGORIAN
METHOD:PUBLISH
X-ORIGINAL-URL:https://www.mairiedefuveau.fr
X-WR-CALDESC:Évènements pour Fuveau
REFRESH-INTERVAL;VALUE=DURATION:PT1H
X-Robots-Tag:noindex
X-PUBLISHED-TTL:PT1H
BEGIN:VTIMEZONE
TZID:Europe/Paris
BEGIN:DAYLIGHT
TZOFFSETFROM:+0100
TZOFFSETTO:+0200
TZNAME:CEST
DTSTART:20240331T010000
END:DAYLIGHT
BEGIN:STANDARD
TZOFFSETFROM:+0200
TZOFFSETTO:+0100
TZNAME:CET
DTSTART:20241027T010000
END:STANDARD
BEGIN:DAYLIGHT
TZOFFSETFROM:+0100
TZOFFSETTO:+0200
TZNAME:CEST
DTSTART:20250330T010000
END:DAYLIGHT
BEGIN:STANDARD
TZOFFSETFROM:+0200
TZOFFSETTO:+0100
TZNAME:CET
DTSTART:20251026T010000
END:STANDARD
BEGIN:DAYLIGHT
TZOFFSETFROM:+0100
TZOFFSETTO:+0200
TZNAME:CEST
DTSTART:20260329T010000
END:DAYLIGHT
BEGIN:STANDARD
TZOFFSETFROM:+0200
TZOFFSETTO:+0100
TZNAME:CET
DTSTART:20261025T010000
END:STANDARD
BEGIN:DAYLIGHT
TZOFFSETFROM:+0100
TZOFFSETTO:+0200
TZNAME:CEST
DTSTART:20270328T010000
END:DAYLIGHT
BEGIN:STANDARD
TZOFFSETFROM:+0200
TZOFFSETTO:+0100
TZNAME:CET
DTSTART:20271031T010000
END:STANDARD
END:VTIMEZONE
BEGIN:VEVENT
DTSTART;TZID=Europe/Paris:20250906T090000
DTEND;TZID=Europe/Paris:20250906T173000
DTSTAMP:20260419T202000
CREATED:20250724T140739Z
LAST-MODIFIED:20250724T140739Z
UID:11178-1757149200-1757179800@www.mairiedefuveau.fr
SUMMARY:Forum des associations
DESCRIPTION:
URL:https://www.mairiedefuveau.fr/evenement/forum-des-associations-4/
CATEGORIES:Associations,Municipalité
ATTACH;FMTTYPE=image/jpeg:https://www.mairiedefuveau.fr/wp-content/uploads/2025/07/2025-09-06-Forum-des-Assos.jpg
END:VEVENT
BEGIN:VEVENT
DTSTART;TZID=Europe/Paris:20250920T100000
DTEND;TZID=Europe/Paris:20250920T113000
DTSTAMP:20260419T202000
CREATED:20250910T072700Z
LAST-MODIFIED:20250910T072700Z
UID:11307-1758362400-1758367800@www.mairiedefuveau.fr
SUMMARY:Accueil des nouveaux arrivants
DESCRIPTION:Inscription obligatoire
URL:https://www.mairiedefuveau.fr/evenement/accueil-des-nouveaux-arrivants-3/
CATEGORIES:Municipalité
ATTACH;FMTTYPE=image/jpeg:https://www.mairiedefuveau.fr/wp-content/uploads/2025/09/2025-09-20-Invitation-nouveaux-arrivants.jpg
END:VEVENT
BEGIN:VEVENT
DTSTART;TZID=Europe/Paris:20250925T173000
DTEND;TZID=Europe/Paris:20250925T183000
DTSTAMP:20260419T202000
CREATED:20250908T094136Z
LAST-MODIFIED:20250908T094136Z
UID:11302-1758821400-1758825000@www.mairiedefuveau.fr
SUMMARY:Cérémonie Commémorative
DESCRIPTION:
URL:https://www.mairiedefuveau.fr/evenement/ceremonie-commemorative-7/
CATEGORIES:Municipalité
ATTACH;FMTTYPE=image/jpeg:https://www.mairiedefuveau.fr/wp-content/uploads/2025/09/2025-09-25-commemoration-01-scaled.jpg
END:VEVENT
BEGIN:VEVENT
DTSTART;TZID=Europe/Paris:20250927T153000
DTEND;TZID=Europe/Paris:20250927T230000
DTSTAMP:20260419T202000
CREATED:20250724T144524Z
LAST-MODIFIED:20250918T074740Z
UID:11182-1758987000-1759014000@www.mairiedefuveau.fr
SUMMARY:Ouverture de la Saison Culturelle
DESCRIPTION:Inscription sur la billetterie en ligne \n 
URL:https://www.mairiedefuveau.fr/evenement/ouverture-de-la-saison-culturelle-4/
CATEGORIES:Concert,Culture,Danse
ATTACH;FMTTYPE=image/jpeg:https://www.mairiedefuveau.fr/wp-content/uploads/2025/07/Affiche-Ouverture-saison-2025-2-1.jpg
END:VEVENT
BEGIN:VEVENT
DTSTART;TZID=Europe/Paris:20251003T203000
DTEND;TZID=Europe/Paris:20251003T213000
DTSTAMP:20260419T202000
CREATED:20250917T134425Z
LAST-MODIFIED:20250917T134425Z
UID:11346-1759523400-1759527000@www.mairiedefuveau.fr
SUMMARY:La vie en jaune
DESCRIPTION:Billetterie en ligne
URL:https://www.mairiedefuveau.fr/evenement/la-vie-en-jaune/
CATEGORIES:Culture
ATTACH;FMTTYPE=image/jpeg:https://www.mairiedefuveau.fr/wp-content/uploads/2025/09/2025-10-03-vie-jaune-Fuveau-scaled.jpg
END:VEVENT
BEGIN:VEVENT
DTSTART;TZID=Europe/Paris:20251004T203000
DTEND;TZID=Europe/Paris:20251004T220000
DTSTAMP:20260419T202000
CREATED:20250918T083256Z
LAST-MODIFIED:20250918T084337Z
UID:11360-1759609800-1759615200@www.mairiedefuveau.fr
SUMMARY:Pleasure Test
DESCRIPTION:Billetterie en ligne
URL:https://www.mairiedefuveau.fr/evenement/pleasure-test/
CATEGORIES:Culture
ATTACH;FMTTYPE=image/jpeg:https://www.mairiedefuveau.fr/wp-content/uploads/2025/09/2025-10-04-Pleasure-test.jpg
END:VEVENT
BEGIN:VEVENT
DTSTART;TZID=Europe/Paris:20251011T093000
DTEND;TZID=Europe/Paris:20251011T173000
DTSTAMP:20260419T202000
CREATED:20250922T081031Z
LAST-MODIFIED:20251006T085625Z
UID:11378-1760175000-1760203800@www.mairiedefuveau.fr
SUMMARY:Octobre Rose
DESCRIPTION:Des rubans sont en vente à l’Office de Tourisme. 1€ minimum. Les dons seront reversés au Centre Ressources d’Aix et à l’association ADER. \nEn savoir plus sur le Salon des artisans du Mieux-Être
URL:https://www.mairiedefuveau.fr/evenement/octobre-rose-3/
CATEGORIES:Associations,Municipalité,Santé
ATTACH;FMTTYPE=image/jpeg:https://www.mairiedefuveau.fr/wp-content/uploads/2025/09/2025-10-11-Affiche-programme-octobre-rose-1.jpg
END:VEVENT
BEGIN:VEVENT
DTSTART;TZID=Europe/Paris:20251016T190000
DTEND;TZID=Europe/Paris:20251016T200000
DTSTAMP:20260419T202000
CREATED:20250918T083655Z
LAST-MODIFIED:20250918T084307Z
UID:11364-1760641200-1760644800@www.mairiedefuveau.fr
SUMMARY:Jeudi littéraire
DESCRIPTION:Billetterie en ligne
URL:https://www.mairiedefuveau.fr/evenement/jeudi-litteraire/
CATEGORIES:Culture
ATTACH;FMTTYPE=image/png:https://www.mairiedefuveau.fr/wp-content/uploads/2025/09/jeudi-litt.png
END:VEVENT
BEGIN:VEVENT
DTSTART;TZID=Europe/Paris:20251017T203000
DTEND;TZID=Europe/Paris:20251017T213000
DTSTAMP:20260419T202000
CREATED:20250918T083427Z
LAST-MODIFIED:20250918T084236Z
UID:11362-1760733000-1760736600@www.mairiedefuveau.fr
SUMMARY:L'heure bleue
DESCRIPTION:Billetterie en ligne
URL:https://www.mairiedefuveau.fr/evenement/lheure-bleue/
CATEGORIES:Culture
ATTACH;FMTTYPE=image/jpeg:https://www.mairiedefuveau.fr/wp-content/uploads/2025/09/2025-10-17-heure-bleue-scaled.jpg
END:VEVENT
BEGIN:VEVENT
DTSTART;TZID=Europe/Paris:20251020T143000
DTEND;TZID=Europe/Paris:20251020T150000
DTSTAMP:20260419T202000
CREATED:20250918T083841Z
LAST-MODIFIED:20250918T084211Z
UID:11368-1760970600-1760972400@www.mairiedefuveau.fr
SUMMARY:Le loup vous dit TOUT
DESCRIPTION:Billetterie en ligne
URL:https://www.mairiedefuveau.fr/evenement/le-loup-vous-dit-tout/
CATEGORIES:Culture
ATTACH;FMTTYPE=image/jpeg:https://www.mairiedefuveau.fr/wp-content/uploads/2025/09/2025-10-20-loup.jpg
END:VEVENT
BEGIN:VEVENT
DTSTART;TZID=Europe/Paris:20251021T143000
DTEND;TZID=Europe/Paris:20251021T153000
DTSTAMP:20260419T202000
CREATED:20250918T083958Z
LAST-MODIFIED:20250918T084137Z
UID:11370-1761057000-1761060600@www.mairiedefuveau.fr
SUMMARY:Le Livre
DESCRIPTION:Billetterie en ligne
URL:https://www.mairiedefuveau.fr/evenement/le-livre/
CATEGORIES:Culture
ATTACH;FMTTYPE=image/jpeg:https://www.mairiedefuveau.fr/wp-content/uploads/2025/09/2025-10-21-LIVRE-MAZIC-scaled.jpg
END:VEVENT
BEGIN:VEVENT
DTSTART;TZID=Europe/Paris:20251022T190000
DTEND;TZID=Europe/Paris:20251022T203000
DTSTAMP:20260419T202000
CREATED:20251015T091152Z
LAST-MODIFIED:20251015T091242Z
UID:11468-1761159600-1761165000@www.mairiedefuveau.fr
SUMMARY:Cinéfamille
DESCRIPTION:Billetterie
URL:https://www.mairiedefuveau.fr/evenement/cinefamille/
CATEGORIES:Culture
ATTACH;FMTTYPE=image/jpeg:https://www.mairiedefuveau.fr/wp-content/uploads/2025/10/2025-10-22-cinefamille-ADDAMS.jpg
END:VEVENT
BEGIN:VEVENT
DTSTART;TZID=Europe/Paris:20251024T200000
DTEND;TZID=Europe/Paris:20251024T213000
DTSTAMP:20260419T202000
CREATED:20251003T095529Z
LAST-MODIFIED:20251003T095529Z
UID:11437-1761336000-1761341400@www.mairiedefuveau.fr
SUMMARY:Ciné ados
DESCRIPTION:Billetterie en ligne
URL:https://www.mairiedefuveau.fr/evenement/cine-ados-2/
CATEGORIES:Culture
ATTACH;FMTTYPE=image/jpeg:https://www.mairiedefuveau.fr/wp-content/uploads/2025/10/556426795_1112144597761044_4649059116359703895_n.jpg
END:VEVENT
BEGIN:VEVENT
DTSTART;TZID=Europe/Paris:20251111T105000
DTEND;TZID=Europe/Paris:20251111T120000
DTSTAMP:20260419T202000
CREATED:20251029T110000Z
LAST-MODIFIED:20251029T110000Z
UID:11497-1762858200-1762862400@www.mairiedefuveau.fr
SUMMARY:Cérémonie commémorative de l'Armistice du 11 novembre 1918
DESCRIPTION:
URL:https://www.mairiedefuveau.fr/evenement/ceremonie-commemorative-de-larmistice-du-11-novembre-1918/
CATEGORIES:Municipalité
ATTACH;FMTTYPE=image/jpeg:https://www.mairiedefuveau.fr/wp-content/uploads/2025/10/2025-11-11-commemoration-scaled.jpg
END:VEVENT
BEGIN:VEVENT
DTSTART;TZID=Europe/Paris:20251121T190000
DTEND;TZID=Europe/Paris:20251121T203000
DTSTAMP:20260419T202000
CREATED:20251112T081914Z
LAST-MODIFIED:20251112T081914Z
UID:11535-1763751600-1763757000@www.mairiedefuveau.fr
SUMMARY:Cinéfamille
DESCRIPTION:Billetterie en ligne
URL:https://www.mairiedefuveau.fr/evenement/cinefamille-2/
CATEGORIES:Culture
ATTACH;FMTTYPE=image/jpeg:https://www.mairiedefuveau.fr/wp-content/uploads/2025/11/2025-11-21-YETI-CIE-scaled.jpg
END:VEVENT
BEGIN:VEVENT
DTSTART;TZID=Europe/Paris:20251203T143000
DTEND;TZID=Europe/Paris:20251203T153000
DTSTAMP:20260419T202000
CREATED:20251106T141428Z
LAST-MODIFIED:20251106T141428Z
UID:11518-1764772200-1764775800@www.mairiedefuveau.fr
SUMMARY:Concert de Noël
DESCRIPTION:
URL:https://www.mairiedefuveau.fr/evenement/concert-de-noel/
CATEGORIES:Concert,Culture
ATTACH;FMTTYPE=image/png:https://www.mairiedefuveau.fr/wp-content/uploads/2025/11/2025-12-03-concert-chorale-FM.png
END:VEVENT
BEGIN:VEVENT
DTSTART;TZID=Europe/Paris:20251205T100000
DTEND;TZID=Europe/Paris:20251205T110000
DTSTAMP:20260419T202000
CREATED:20251113T095338Z
LAST-MODIFIED:20251113T095350Z
UID:11552-1764928800-1764932400@www.mairiedefuveau.fr
SUMMARY:Cérémonie commémorative
DESCRIPTION:
URL:https://www.mairiedefuveau.fr/evenement/ceremonie-commemorative-8/
CATEGORIES:Municipalité
ATTACH;FMTTYPE=image/jpeg:https://www.mairiedefuveau.fr/wp-content/uploads/2025/11/2025-12-05-commemoration-scaled.jpg
END:VEVENT
BEGIN:VEVENT
DTSTART;TZID=Europe/Paris:20251206T140000
DTEND;TZID=Europe/Paris:20251206T143000
DTSTAMP:20260419T202000
CREATED:20251127T123949Z
LAST-MODIFIED:20251127T123949Z
UID:11589-1765029600-1765031400@www.mairiedefuveau.fr
SUMMARY:Inauguration de la Maison de la Barque - Firmin Julien
DESCRIPTION:
URL:https://www.mairiedefuveau.fr/evenement/inauguration-de-la-maison-de-la-barque-firmin-julien/
CATEGORIES:Municipalité
ATTACH;FMTTYPE=image/jpeg:https://www.mairiedefuveau.fr/wp-content/uploads/2025/11/2025-12-06-Modulaire-La-Barque.jpg
END:VEVENT
BEGIN:VEVENT
DTSTART;TZID=Europe/Paris:20251206T203000
DTEND;TZID=Europe/Paris:20251206T213000
DTSTAMP:20260419T202000
CREATED:20251127T145412Z
LAST-MODIFIED:20251127T145412Z
UID:11596-1765053000-1765056600@www.mairiedefuveau.fr
SUMMARY:Concert du Téléthon
DESCRIPTION:Billetterie en ligne
URL:https://www.mairiedefuveau.fr/evenement/concert-du-telethon/
CATEGORIES:Concert,Culture,Danse
ATTACH;FMTTYPE=image/jpeg:https://www.mairiedefuveau.fr/wp-content/uploads/2025/11/2025-12-06-cumbiancheros-telethon-modifie.jpg
END:VEVENT
BEGIN:VEVENT
DTSTART;TZID=Europe/Paris:20251212T190000
DTEND;TZID=Europe/Paris:20251212T200000
DTSTAMP:20260419T202000
CREATED:20251127T150423Z
LAST-MODIFIED:20251127T150423Z
UID:11603-1765566000-1765569600@www.mairiedefuveau.fr
SUMMARY:Vassilissa et Baba Yaga
DESCRIPTION:Billetterie en ligne
URL:https://www.mairiedefuveau.fr/evenement/vassilissa-et-baba-yaga/
CATEGORIES:Culture,Danse
ATTACH;FMTTYPE=image/jpeg:https://www.mairiedefuveau.fr/wp-content/uploads/2025/11/2025-12-12-Fuveau-Vassilissa-et-Baba-Yaga-TEST-1-scaled.jpg
END:VEVENT
BEGIN:VEVENT
DTSTART;TZID=Europe/Paris:20251213T190000
DTEND;TZID=Europe/Paris:20251213T203000
DTSTAMP:20260419T202000
CREATED:20251127T150133Z
LAST-MODIFIED:20251127T150133Z
UID:11598-1765652400-1765657800@www.mairiedefuveau.fr
SUMMARY:Chants de Noël
DESCRIPTION:
URL:https://www.mairiedefuveau.fr/evenement/chants-de-noel-2/
CATEGORIES:Concert,Culture
ATTACH;FMTTYPE=image/jpeg:https://www.mairiedefuveau.fr/wp-content/uploads/2025/11/les-chants-de-noel-fuveau-scaled.jpg
END:VEVENT
BEGIN:VEVENT
DTSTART;TZID=Europe/Paris:20251214T170000
DTEND;TZID=Europe/Paris:20251214T180000
DTSTAMP:20260419T202000
CREATED:20251127T150654Z
LAST-MODIFIED:20251127T150721Z
UID:11605-1765731600-1765735200@www.mairiedefuveau.fr
SUMMARY:Blanche Neige
DESCRIPTION:Billetterie en ligne
URL:https://www.mairiedefuveau.fr/evenement/blanche-neige/
CATEGORIES:Culture,Théâtre
ATTACH;FMTTYPE=image/jpeg:https://www.mairiedefuveau.fr/wp-content/uploads/2025/11/2025-12-14-KRONOPE-1-scaled.jpg
END:VEVENT
BEGIN:VEVENT
DTSTART;TZID=Europe/Paris:20251218T190000
DTEND;TZID=Europe/Paris:20251218T203000
DTSTAMP:20260419T202000
CREATED:20251127T151419Z
LAST-MODIFIED:20251127T151419Z
UID:11607-1766084400-1766089800@www.mairiedefuveau.fr
SUMMARY:Jeudi littéraire : Polars
DESCRIPTION:
URL:https://www.mairiedefuveau.fr/evenement/jeudi-litteraire-polars/
CATEGORIES:Culture
ATTACH;FMTTYPE=image/jpeg:https://www.mairiedefuveau.fr/wp-content/uploads/2025/11/2025-12-18-Jeudi-litteraire-polar.jpg
END:VEVENT
BEGIN:VEVENT
DTSTART;TZID=Europe/Paris:20251218T190000
DTEND;TZID=Europe/Paris:20251218T203000
DTSTAMP:20260419T202000
CREATED:20251215T130047Z
LAST-MODIFIED:20251215T130047Z
UID:11678-1766084400-1766089800@www.mairiedefuveau.fr
SUMMARY:Concert de jazz
DESCRIPTION:
URL:https://www.mairiedefuveau.fr/evenement/concert-de-jazz/
CATEGORIES:Concert,Culture
ATTACH;FMTTYPE=image/jpeg:https://www.mairiedefuveau.fr/wp-content/uploads/2025/12/2025-12-18-concert-eleves-jazz-dec.jpg
END:VEVENT
BEGIN:VEVENT
DTSTART;TZID=Europe/Paris:20251221T190000
DTEND;TZID=Europe/Paris:20251221T203000
DTSTAMP:20260419T202000
CREATED:20251112T082805Z
LAST-MODIFIED:20251127T090552Z
UID:11538-1766343600-1766349000@www.mairiedefuveau.fr
SUMMARY:Et la lumière fut !
DESCRIPTION:Billetterie en ligne
URL:https://www.mairiedefuveau.fr/evenement/et-la-lumiere-fut-2/
CATEGORIES:Concert,Culture
ATTACH;FMTTYPE=image/jpeg:https://www.mairiedefuveau.fr/wp-content/uploads/2025/11/2025-12-21-Swing-scaled.jpg
END:VEVENT
BEGIN:VEVENT
DTSTART;TZID=Europe/Paris:20260104T183000
DTEND;TZID=Europe/Paris:20260104T193000
DTSTAMP:20260419T202000
CREATED:20251215T132303Z
LAST-MODIFIED:20251215T132303Z
UID:11683-1767551400-1767555000@www.mairiedefuveau.fr
SUMMARY:Feu d'artifice
DESCRIPTION:
URL:https://www.mairiedefuveau.fr/evenement/feu-dartifice-4/
CATEGORIES:Animation,Municipalité
ATTACH;FMTTYPE=image/jpeg:https://www.mairiedefuveau.fr/wp-content/uploads/2025/12/Feu-dartifice-2026.jpg
END:VEVENT
BEGIN:VEVENT
DTSTART;TZID=Europe/Paris:20260109T203000
DTEND;TZID=Europe/Paris:20260109T213000
DTSTAMP:20260419T202000
CREATED:20251216T100204Z
LAST-MODIFIED:20251216T100204Z
UID:11694-1767990600-1767994200@www.mairiedefuveau.fr
SUMMARY:Concert des profs au profit des Restos du Coeur
DESCRIPTION:
URL:https://www.mairiedefuveau.fr/evenement/concert-des-profs-au-profit-des-restos-du-coeur/
CATEGORIES:Concert,Culture
ATTACH;FMTTYPE=image/jpeg:https://www.mairiedefuveau.fr/wp-content/uploads/2025/12/2026-01-09-concert-des-profs.jpg
END:VEVENT
BEGIN:VEVENT
DTSTART;TZID=Europe/Paris:20260110T183000
DTEND;TZID=Europe/Paris:20260110T210000
DTSTAMP:20260419T202000
CREATED:20251216T100710Z
LAST-MODIFIED:20251216T100710Z
UID:11697-1768069800-1768078800@www.mairiedefuveau.fr
SUMMARY:Cérémonie des vœux du Maire à la population
DESCRIPTION:
URL:https://www.mairiedefuveau.fr/evenement/ceremonie-des-voeux-du-maire-a-la-population/
CATEGORIES:Concert,Municipalité
ATTACH;FMTTYPE=image/jpeg:https://www.mairiedefuveau.fr/wp-content/uploads/2025/12/2026-01-10-Invitation-voeux-Maire-1.jpg
END:VEVENT
BEGIN:VEVENT
DTSTART;TZID=Europe/Paris:20260123T190000
DTEND;TZID=Europe/Paris:20260123T203000
DTSTAMP:20260419T202000
CREATED:20260109T133236Z
LAST-MODIFIED:20260109T133236Z
UID:11730-1769194800-1769200200@www.mairiedefuveau.fr
SUMMARY:Nuit de la lecture - Soirée jeux
DESCRIPTION:
URL:https://www.mairiedefuveau.fr/evenement/nuit-de-la-lecture-soiree-jeux/
CATEGORIES:Animation,Culture
ATTACH;FMTTYPE=image/png:https://www.mairiedefuveau.fr/wp-content/uploads/2026/01/Nuits-de-la-lecture-a-Fuveau.png
END:VEVENT
BEGIN:VEVENT
DTSTART;TZID=Europe/Paris:20260131T150000
DTEND;TZID=Europe/Paris:20260131T160000
DTSTAMP:20260419T202000
CREATED:20260122T110222Z
LAST-MODIFIED:20260122T110355Z
UID:11784-1769871600-1769875200@www.mairiedefuveau.fr
SUMMARY:Concert - Souffleur de rêve
DESCRIPTION:Billetterie en ligne
URL:https://www.mairiedefuveau.fr/evenement/concert-souffleur-de-reve/
CATEGORIES:Concert,Culture
ATTACH;FMTTYPE=image/jpeg:https://www.mairiedefuveau.fr/wp-content/uploads/2026/01/2026-01-31-SOUFFLEUR.jpg
END:VEVENT
END:VCALENDAR