BEGIN:VCALENDAR
VERSION:2.0
PRODID:-//Fuveau - ECPv6.15.17.1//NONSGML v1.0//EN
CALSCALE:GREGORIAN
METHOD:PUBLISH
X-WR-CALNAME:Fuveau
X-ORIGINAL-URL:https://www.mairiedefuveau.fr
X-WR-CALDESC:Évènements pour Fuveau
REFRESH-INTERVAL;VALUE=DURATION:PT1H
X-Robots-Tag:noindex
X-PUBLISHED-TTL:PT1H
BEGIN:VTIMEZONE
TZID:Europe/Paris
BEGIN:DAYLIGHT
TZOFFSETFROM:+0100
TZOFFSETTO:+0200
TZNAME:CEST
DTSTART:20230326T010000
END:DAYLIGHT
BEGIN:STANDARD
TZOFFSETFROM:+0200
TZOFFSETTO:+0100
TZNAME:CET
DTSTART:20231029T010000
END:STANDARD
BEGIN:DAYLIGHT
TZOFFSETFROM:+0100
TZOFFSETTO:+0200
TZNAME:CEST
DTSTART:20240331T010000
END:DAYLIGHT
BEGIN:STANDARD
TZOFFSETFROM:+0200
TZOFFSETTO:+0100
TZNAME:CET
DTSTART:20241027T010000
END:STANDARD
BEGIN:DAYLIGHT
TZOFFSETFROM:+0100
TZOFFSETTO:+0200
TZNAME:CEST
DTSTART:20250330T010000
END:DAYLIGHT
BEGIN:STANDARD
TZOFFSETFROM:+0200
TZOFFSETTO:+0100
TZNAME:CET
DTSTART:20251026T010000
END:STANDARD
END:VTIMEZONE
BEGIN:VEVENT
DTSTART;TZID=Europe/Paris:20241205T110000
DTEND;TZID=Europe/Paris:20241205T120000
DTSTAMP:20260424T130122
CREATED:20241119T093025Z
LAST-MODIFIED:20241119T093130Z
UID:10019-1733396400-1733400000@www.mairiedefuveau.fr
SUMMARY:Cérémonie en hommage aux morts pour la France pendant la Guerre d'Algérie
DESCRIPTION:Jeudi 5 décembre 2024\, Madame le Maire et les élus vous convient à la cérémonie commémorative en hommage aux morts pour la France pendant la guerre d’Algérie et les combats du Maroc et de la Tunisie. \nTous les fuvelains sont invités à participer au rassemblement qui aura lieu à 11h devant le Monument aux Morts en présence des Anciens Combattants et du Souvenir Français.
URL:https://www.mairiedefuveau.fr/evenement/ceremonie-en-hommage-aux-morts-pour-la-france-pendant-la-guerre-dalgerie/
CATEGORIES:Municipalité
ATTACH;FMTTYPE=image/jpeg:https://www.mairiedefuveau.fr/wp-content/uploads/2024/11/2024-12-05-commemoration-01-scaled.jpg
END:VEVENT
END:VCALENDAR