BEGIN:VCALENDAR
VERSION:2.0
PRODID:-//Fuveau - ECPv6.15.17.1//NONSGML v1.0//EN
CALSCALE:GREGORIAN
METHOD:PUBLISH
X-WR-CALNAME:Fuveau
X-ORIGINAL-URL:https://www.mairiedefuveau.fr
X-WR-CALDESC:Évènements pour Fuveau
REFRESH-INTERVAL;VALUE=DURATION:PT1H
X-Robots-Tag:noindex
X-PUBLISHED-TTL:PT1H
BEGIN:VTIMEZONE
TZID:Europe/Paris
BEGIN:DAYLIGHT
TZOFFSETFROM:+0100
TZOFFSETTO:+0200
TZNAME:CEST
DTSTART:20240331T010000
END:DAYLIGHT
BEGIN:STANDARD
TZOFFSETFROM:+0200
TZOFFSETTO:+0100
TZNAME:CET
DTSTART:20241027T010000
END:STANDARD
BEGIN:DAYLIGHT
TZOFFSETFROM:+0100
TZOFFSETTO:+0200
TZNAME:CEST
DTSTART:20250330T010000
END:DAYLIGHT
BEGIN:STANDARD
TZOFFSETFROM:+0200
TZOFFSETTO:+0100
TZNAME:CET
DTSTART:20251026T010000
END:STANDARD
BEGIN:DAYLIGHT
TZOFFSETFROM:+0100
TZOFFSETTO:+0200
TZNAME:CEST
DTSTART:20260329T010000
END:DAYLIGHT
BEGIN:STANDARD
TZOFFSETFROM:+0200
TZOFFSETTO:+0100
TZNAME:CET
DTSTART:20261025T010000
END:STANDARD
END:VTIMEZONE
BEGIN:VEVENT
DTSTART;VALUE=DATE:20250203
DTEND;VALUE=DATE:20250401
DTSTAMP:20260420T115249
CREATED:20250203T083318Z
LAST-MODIFIED:20250203T083318Z
UID:10439-1738540800-1743465599@www.mairiedefuveau.fr
SUMMARY:Appel à candidatures - Fête de la musique
DESCRIPTION:Règlement et informations ici : https://www.mairiedefuveau.fr/culture-tourisme/le-pole-culturel-jean-bonfillon/fete-de-la-musique/ 
URL:https://www.mairiedefuveau.fr/evenement/appel-a-candidatures-fete-de-la-musique/
CATEGORIES:Culture
ATTACH;FMTTYPE=image/png:https://www.mairiedefuveau.fr/wp-content/uploads/2025/01/FETE-DE-LA-MUSIQUE-2025-appel-a-candidature.png
END:VEVENT
BEGIN:VEVENT
DTSTART;TZID=Europe/Paris:20250301T140000
DTEND;TZID=Europe/Paris:20250301T153000
DTSTAMP:20260420T115249
CREATED:20250131T094327Z
LAST-MODIFIED:20250131T094747Z
UID:10402-1740837600-1740843000@www.mairiedefuveau.fr
SUMMARY:Concert de flûtes : Le Voyage de Marcelline\, la grue voyageuse
DESCRIPTION:
URL:https://www.mairiedefuveau.fr/evenement/concert-de-flutes-le-voyage-de-marcelline-la-grue-voyageuse/
CATEGORIES:Concert,Culture
ATTACH;FMTTYPE=image/jpeg:https://www.mairiedefuveau.fr/wp-content/uploads/2025/01/2025-03-01-concert-flutes-2.jpg
END:VEVENT
BEGIN:VEVENT
DTSTART;TZID=Europe/Paris:20250305T190000
DTEND;TZID=Europe/Paris:20250305T203000
DTSTAMP:20260420T115249
CREATED:20250127T134236Z
LAST-MODIFIED:20250127T134236Z
UID:10392-1741201200-1741206600@www.mairiedefuveau.fr
SUMMARY:Réunion publique -Projet citoyen de centrale photovoltaïque sur l'école La Roque Martine
DESCRIPTION:Pour en savoir déjà un peu sur le projet : https://www.mairiedefuveau.fr/production-locale-delectricite-avec-une-centrale-photovoltaique-a-lecole-la-roque-martine/
URL:https://www.mairiedefuveau.fr/evenement/reunion-publique-projet-citoyen-de-centrale-photovoltaique-sur-lecole-la-roque-martine/
CATEGORIES:Environnement,Municipalité
ATTACH;FMTTYPE=image/jpeg:https://www.mairiedefuveau.fr/wp-content/uploads/2025/01/2025-03-05-Aveppa-scaled.jpg
END:VEVENT
BEGIN:VEVENT
DTSTART;TZID=Europe/Paris:20250307T203000
DTEND;TZID=Europe/Paris:20250307T213000
DTSTAMP:20260420T115249
CREATED:20250116T134253Z
LAST-MODIFIED:20250121T130221Z
UID:10332-1741379400-1741383000@www.mairiedefuveau.fr
SUMMARY:Cathy Heiting Quintet
DESCRIPTION:Réservation via la billetterie en ligne : https://www.billetweb.fr/multi_event.php?multi=34458
URL:https://www.mairiedefuveau.fr/evenement/cathy-heiting-quintet/
CATEGORIES:Concert,Culture
ATTACH;FMTTYPE=image/jpeg:https://www.mairiedefuveau.fr/wp-content/uploads/2025/01/2025-03-07-affiche-scaled.jpg
END:VEVENT
BEGIN:VEVENT
DTSTART;TZID=Europe/Paris:20250307T203000
DTEND;TZID=Europe/Paris:20250308T200000
DTSTAMP:20260420T115249
CREATED:20250218T144402Z
LAST-MODIFIED:20250218T144402Z
UID:10512-1741379400-1741464000@www.mairiedefuveau.fr
SUMMARY:Journée des droits des femme
DESCRIPTION:Le pôle culturel J. Bonfillon vous invite à célébrer la Journée des Droits des Femmes avec trois rendez-vous à ne pas manquer ! \n\n\n Vendredi 7 mars – 20h30 | Galerie\n Cathy Heiting Quintet – Un concert soul\, jazz & groove \n Tarif : 5/10€ | Durée : 1h30 | Tout public\n\n\n\n Samedi 8 mars – 10h30 | Maison pour Tous\n Rencontre & dédicaces avec Margaux Mazellier\, journaliste et autrice du livre « Marseille trop puissante »\n\n\n\n Samedi 8 mars – 19h | Galerie\n Projection du film « Woman » d’Anastasia Mikova et Yann Arthus-Bertrand\n Durée : 1h50 | Tout public\n\n\n\n Réservez dès maintenant vos places ici \n https://www.mairiedefuveau.fr/…/billetterie-en-ligne/
URL:https://www.mairiedefuveau.fr/evenement/journee-des-droits-des-femme/
CATEGORIES:Concert,Culture
ATTACH;FMTTYPE=image/jpeg:https://www.mairiedefuveau.fr/wp-content/uploads/2025/02/2025-03-08-Journee-de-la-femme-4.jpg
END:VEVENT
BEGIN:VEVENT
DTSTART;TZID=Europe/Paris:20250308T190000
DTEND;TZID=Europe/Paris:20250308T210000
DTSTAMP:20260420T115249
CREATED:20250116T134435Z
LAST-MODIFIED:20250121T130239Z
UID:10335-1741460400-1741467600@www.mairiedefuveau.fr
SUMMARY:Woman
DESCRIPTION:Réservation via la billetterie en ligne : https://www.billetweb.fr/multi_event.php?multi=34458
URL:https://www.mairiedefuveau.fr/evenement/woman/
CATEGORIES:Culture
ATTACH;FMTTYPE=image/png:https://www.mairiedefuveau.fr/wp-content/uploads/2025/01/2025-03-08-women-le-film.png
END:VEVENT
BEGIN:VEVENT
DTSTART;TZID=Europe/Paris:20250315T140000
DTEND;TZID=Europe/Paris:20250315T163000
DTSTAMP:20260420T115249
CREATED:20250218T145129Z
LAST-MODIFIED:20250218T145129Z
UID:10515-1742047200-1742056200@www.mairiedefuveau.fr
SUMMARY:Carnaval de Fuveau
DESCRIPTION:Samedi 15 mars – Préparez vos plus beaux costumes cosmiques\, on vous embarque pour un carnaval intergalactique !\n\n\nAu programme :\n\n14h – RDV sur le parking de la Maison pour Tous\nDéfilé dans le village avec les chars et Djambo\nOn brûle Djambo à la Gare Routière\nRetour à la Maison pour Tous pour une bataille de confettis et une distribution de friandises par le Conseil Municipal des Jeunes !\n\n\n\nVenez nombreux pour une après-midi festive et magique sous les étoiles !
URL:https://www.mairiedefuveau.fr/evenement/carnaval-de-fuveau-3/
CATEGORIES:Animation,Culture
ATTACH;FMTTYPE=image/jpeg:https://www.mairiedefuveau.fr/wp-content/uploads/2025/02/2025-03-15-Carnaval.jpg
END:VEVENT
BEGIN:VEVENT
DTSTART;TZID=Europe/Paris:20250321T190000
DTEND;TZID=Europe/Paris:20250321T210000
DTSTAMP:20260420T115249
CREATED:20250311T230130Z
LAST-MODIFIED:20250311T093306Z
UID:10576-1742583600-1742590800@www.mairiedefuveau.fr
SUMMARY:Cinéfamille - Men in Black
DESCRIPTION:Le Conseil Municipal des Jeunes et le pôle culturel Jean Bonfillon vous invitent à une séance spéciale CinéFamille ! \n\n\n Vendredi 21 mars\n à 19h\n Salle de la Galerie\n Gratuit sur inscription – https://www.billetweb.fr/multi_event.php?multi=34458\n Places limitées à 50\n\n\n(Re)découvrez Men in Black\, un film culte plein d’action et d’humour\, en famille ou entre amis ! Ne manquez pas cette soirée ciné conviviale.
URL:https://www.mairiedefuveau.fr/evenement/cinefamille-men-in-black/
CATEGORIES:Culture
ATTACH;FMTTYPE=image/jpeg:https://www.mairiedefuveau.fr/wp-content/uploads/2025/03/2025-03-21-CINEFAMILLE-MIB.jpg
END:VEVENT
BEGIN:VEVENT
DTSTART;TZID=Europe/Paris:20250329T083000
DTEND;TZID=Europe/Paris:20250329T123000
DTSTAMP:20260420T115249
CREATED:20250318T110058Z
LAST-MODIFIED:20250328T150553Z
UID:10632-1743237000-1743251400@www.mairiedefuveau.fr
SUMMARY:Atelier Fresque Océane - ANNULÉ
DESCRIPTION:Inscription sur la billetterie en ligne \nou 04 42 65 65 24
URL:https://www.mairiedefuveau.fr/evenement/atelier-fresque-ocean/
CATEGORIES:Culture,Environnement
ATTACH;FMTTYPE=image/jpeg:https://www.mairiedefuveau.fr/wp-content/uploads/2025/03/2025-03-29-FRESQUE-OCEANE-annule.jpg
END:VEVENT
BEGIN:VEVENT
DTSTART;TZID=Europe/Paris:20250329T163000
DTEND;TZID=Europe/Paris:20250329T173000
DTSTAMP:20260420T115249
CREATED:20250318T110219Z
LAST-MODIFIED:20250318T110219Z
UID:10636-1743265800-1743269400@www.mairiedefuveau.fr
SUMMARY:Concert Musik'Zak
DESCRIPTION:
URL:https://www.mairiedefuveau.fr/evenement/concert-musikzak/
CATEGORIES:Concert,Culture
ATTACH;FMTTYPE=image/jpeg:https://www.mairiedefuveau.fr/wp-content/uploads/2025/03/2025-03-29-concert-zik-zak-.jpg
END:VEVENT
END:VCALENDAR