BEGIN:VCALENDAR
VERSION:2.0
PRODID:-//Fuveau - ECPv6.15.17.1//NONSGML v1.0//EN
CALSCALE:GREGORIAN
METHOD:PUBLISH
X-WR-CALNAME:Fuveau
X-ORIGINAL-URL:https://www.mairiedefuveau.fr
X-WR-CALDESC:Évènements pour Fuveau
REFRESH-INTERVAL;VALUE=DURATION:PT1H
X-Robots-Tag:noindex
X-PUBLISHED-TTL:PT1H
BEGIN:VTIMEZONE
TZID:Europe/Paris
BEGIN:DAYLIGHT
TZOFFSETFROM:+0100
TZOFFSETTO:+0200
TZNAME:CEST
DTSTART:20230326T010000
END:DAYLIGHT
BEGIN:STANDARD
TZOFFSETFROM:+0200
TZOFFSETTO:+0100
TZNAME:CET
DTSTART:20231029T010000
END:STANDARD
BEGIN:DAYLIGHT
TZOFFSETFROM:+0100
TZOFFSETTO:+0200
TZNAME:CEST
DTSTART:20240331T010000
END:DAYLIGHT
BEGIN:STANDARD
TZOFFSETFROM:+0200
TZOFFSETTO:+0100
TZNAME:CET
DTSTART:20241027T010000
END:STANDARD
BEGIN:DAYLIGHT
TZOFFSETFROM:+0100
TZOFFSETTO:+0200
TZNAME:CEST
DTSTART:20250330T010000
END:DAYLIGHT
BEGIN:STANDARD
TZOFFSETFROM:+0200
TZOFFSETTO:+0100
TZNAME:CET
DTSTART:20251026T010000
END:STANDARD
BEGIN:DAYLIGHT
TZOFFSETFROM:+0100
TZOFFSETTO:+0200
TZNAME:CEST
DTSTART:20260329T010000
END:DAYLIGHT
BEGIN:STANDARD
TZOFFSETFROM:+0200
TZOFFSETTO:+0100
TZNAME:CET
DTSTART:20261025T010000
END:STANDARD
END:VTIMEZONE
BEGIN:VEVENT
DTSTART;VALUE=DATE:20241213
DTEND;VALUE=DATE:20250114
DTSTAMP:20260420T082325
CREATED:20241129T130903Z
LAST-MODIFIED:20250121T140040Z
UID:10115-1734048000-1736812799@www.mairiedefuveau.fr
SUMMARY:Programme des fêtes à Fuveau
DESCRIPTION:2024 12 - Programme Noël v2
URL:https://www.mairiedefuveau.fr/evenement/programme-des-fetes-a-fuveau/
CATEGORIES:Animation,Associations,Culture,Municipalité
ATTACH;FMTTYPE=image/jpeg:https://www.mairiedefuveau.fr/wp-content/uploads/2024/11/2024-12-Programme-Noel-1.jpg
END:VEVENT
BEGIN:VEVENT
DTSTART;TZID=Europe/Paris:20250110T203000
DTEND;TZID=Europe/Paris:20250110T220000
DTSTAMP:20260420T082325
CREATED:20241220T132720Z
LAST-MODIFIED:20241230T121213Z
UID:10239-1736541000-1736546400@www.mairiedefuveau.fr
SUMMARY:Concert des profs
DESCRIPTION:Plaquette détaillée de la programmation : 2024-25 présentation saison version complète
URL:https://www.mairiedefuveau.fr/evenement/concert-des-profs-4/
CATEGORIES:Concert,Culture
ATTACH;FMTTYPE=image/jpeg:https://www.mairiedefuveau.fr/wp-content/uploads/2024/12/2025-01-10-concert-des-profs-A3-portrait-1.jpg
END:VEVENT
BEGIN:VEVENT
DTSTART;TZID=Europe/Paris:20250111T183000
DTEND;TZID=Europe/Paris:20250111T210000
DTSTAMP:20260420T082325
CREATED:20241220T132524Z
LAST-MODIFIED:20241220T132524Z
UID:10234-1736620200-1736629200@www.mairiedefuveau.fr
SUMMARY:Vœux de Mme le Maire à la population
DESCRIPTION:
URL:https://www.mairiedefuveau.fr/evenement/voeux-de-mme-le-maire-a-la-population/
CATEGORIES:Culture,Danse,Municipalité
ATTACH;FMTTYPE=image/jpeg:https://www.mairiedefuveau.fr/wp-content/uploads/2024/12/2025-01-11-Invitation-voeux_Page_1.jpg
END:VEVENT
BEGIN:VEVENT
DTSTART;TZID=Europe/Paris:20250118T203000
DTEND;TZID=Europe/Paris:20250118T213000
DTSTAMP:20260420T082325
CREATED:20241220T133010Z
LAST-MODIFIED:20250106T105914Z
UID:10242-1737232200-1737235800@www.mairiedefuveau.fr
SUMMARY:Un océan d'amour
DESCRIPTION:Consultez l’ensemble des manifestations de la saison culturelle de janvier à mars 2025 ici : https://www.mairiedefuveau.fr/wp-content/uploads/2024/12/Programme-Culturel-janvier-mars-2025.pdf \nRéservez votre place : https://www.billetweb.fr/multi_event.php?multi=34458 \nPlaquette détaillée de la programmation : 2024-25 présentation saison version complète
URL:https://www.mairiedefuveau.fr/evenement/un-ocean-damour/
CATEGORIES:Concert,Culture
ATTACH;FMTTYPE=image/jpeg:https://www.mairiedefuveau.fr/wp-content/uploads/2025/01/2025-01-18-ocean-amour-bd-concert-20h30-scaled.jpg
END:VEVENT
BEGIN:VEVENT
DTSTART;TZID=Europe/Paris:20250122T080000
DTEND;TZID=Europe/Paris:20250124T120000
DTSTAMP:20260420T082325
CREATED:20250121T081514Z
LAST-MODIFIED:20250121T081514Z
UID:10363-1737532800-1737720000@www.mairiedefuveau.fr
SUMMARY:Fermeture la Poste la Barque
DESCRIPTION:
URL:https://www.mairiedefuveau.fr/evenement/fermeture-la-poste-la-barque/
CATEGORIES:Municipalité
ATTACH;FMTTYPE=image/jpeg:https://www.mairiedefuveau.fr/wp-content/uploads/2025/01/2025-01-23-fermeture-poste-la-barque-scaled.jpg
END:VEVENT
BEGIN:VEVENT
DTSTART;TZID=Europe/Paris:20250124T190000
DTEND;TZID=Europe/Paris:20250124T210000
DTSTAMP:20260420T082325
CREATED:20250116T134023Z
LAST-MODIFIED:20250120T095521Z
UID:10329-1737745200-1737752400@www.mairiedefuveau.fr
SUMMARY:Cinéfamille - Ruby l'ado Kraken
DESCRIPTION:
URL:https://www.mairiedefuveau.fr/evenement/cinefamille-ruby-lado-kraken/
CATEGORIES:Culture
ATTACH;FMTTYPE=image/jpeg:https://www.mairiedefuveau.fr/wp-content/uploads/2025/01/2025-01-24-ADO-KRAKEN-cplt.jpg
END:VEVENT
BEGIN:VEVENT
DTSTART;TZID=Europe/Paris:20250125T083000
DTEND;TZID=Europe/Paris:20250125T123000
DTSTAMP:20260420T082325
CREATED:20250116T134557Z
LAST-MODIFIED:20250127T134025Z
UID:10338-1737793800-1737808200@www.mairiedefuveau.fr
SUMMARY:Atelier - Fresque Océane
DESCRIPTION:Réservation via la billetterie en ligne : https://www.billetweb.fr/multi_event.php?multi=34458
URL:https://www.mairiedefuveau.fr/evenement/atelier-fresque-oceane/
CATEGORIES:Culture,Environnement
ATTACH;FMTTYPE=image/jpeg:https://www.mairiedefuveau.fr/wp-content/uploads/2025/01/FRESQUE-OCEANE.jpg
END:VEVENT
END:VCALENDAR