BEGIN:VCALENDAR
VERSION:2.0
PRODID:-//Fuveau - ECPv6.15.17.1//NONSGML v1.0//EN
CALSCALE:GREGORIAN
METHOD:PUBLISH
X-WR-CALNAME:Fuveau
X-ORIGINAL-URL:https://www.mairiedefuveau.fr
X-WR-CALDESC:Évènements pour Fuveau
REFRESH-INTERVAL;VALUE=DURATION:PT1H
X-Robots-Tag:noindex
X-PUBLISHED-TTL:PT1H
BEGIN:VTIMEZONE
TZID:Europe/Paris
BEGIN:DAYLIGHT
TZOFFSETFROM:+0100
TZOFFSETTO:+0200
TZNAME:CEST
DTSTART:20240331T010000
END:DAYLIGHT
BEGIN:STANDARD
TZOFFSETFROM:+0200
TZOFFSETTO:+0100
TZNAME:CET
DTSTART:20241027T010000
END:STANDARD
BEGIN:DAYLIGHT
TZOFFSETFROM:+0100
TZOFFSETTO:+0200
TZNAME:CEST
DTSTART:20250330T010000
END:DAYLIGHT
BEGIN:STANDARD
TZOFFSETFROM:+0200
TZOFFSETTO:+0100
TZNAME:CET
DTSTART:20251026T010000
END:STANDARD
BEGIN:DAYLIGHT
TZOFFSETFROM:+0100
TZOFFSETTO:+0200
TZNAME:CEST
DTSTART:20260329T010000
END:DAYLIGHT
BEGIN:STANDARD
TZOFFSETFROM:+0200
TZOFFSETTO:+0100
TZNAME:CET
DTSTART:20261025T010000
END:STANDARD
END:VTIMEZONE
BEGIN:VEVENT
DTSTART;TZID=Europe/Paris:20250704T180000
DTEND;TZID=Europe/Paris:20250705T000000
DTSTAMP:20260426T005755
CREATED:20250701T095436Z
LAST-MODIFIED:20250701T095436Z
UID:11076-1751652000-1751673600@www.mairiedefuveau.fr
SUMMARY:Fiesta Latina
DESCRIPTION:Pour les amateurs de musiques et de danses latines\, voici l’édition de notre 2ème « Fiesta Latina » fuvelaine! \n\n\n\n\nBientôt l’été !!! Alors pour les amateurs de soirées festives en plein air\, l’Office de Tourisme de Fuveau organise une grande Fiesta Latina le 04 juillet de 18h à minuit à l’Espace Georges Martin ! \nAu programme de la soirée :\nOuverture 18h\n19h/20h Initiation aux danses latines avec Millie Timbera .\n20h/21h30 DJ MSX pour animer la soirée!\n21h30/23h Un concert live de musique latine avec RUBEN PAZ Y CHÉVÉRÉFUSION avec en guest Angel YOS \nPetite restauration et buvette sur place.\nEntrée gratuite
URL:https://www.mairiedefuveau.fr/evenement/fiesta-latina/
CATEGORIES:Animation,Associations,Concert,Danse
ATTACH;FMTTYPE=image/jpeg:https://www.mairiedefuveau.fr/wp-content/uploads/2025/07/Affiche-Fiesta-Latina-2025-6-683x1024-1.jpg
END:VEVENT
BEGIN:VEVENT
DTSTART;VALUE=DATE:20250712
DTEND;VALUE=DATE:20250715
DTSTAMP:20260426T005755
CREATED:20250630T111918Z
LAST-MODIFIED:20250630T111918Z
UID:11066-1752278400-1752537599@www.mairiedefuveau.fr
SUMMARY:Fêtes votives
DESCRIPTION:
URL:https://www.mairiedefuveau.fr/evenement/fetes-votives-3/
CATEGORIES:Animation,Associations,Concert
ATTACH;FMTTYPE=image/jpeg:https://www.mairiedefuveau.fr/wp-content/uploads/2025/06/2025-07-14-Festivites-14-juillet-1.jpg
END:VEVENT
END:VCALENDAR