BEGIN:VCALENDAR
VERSION:2.0
PRODID:-//Fuveau - ECPv6.15.17.1//NONSGML v1.0//EN
CALSCALE:GREGORIAN
METHOD:PUBLISH
X-WR-CALNAME:Fuveau
X-ORIGINAL-URL:https://www.mairiedefuveau.fr
X-WR-CALDESC:Évènements pour Fuveau
REFRESH-INTERVAL;VALUE=DURATION:PT1H
X-Robots-Tag:noindex
X-PUBLISHED-TTL:PT1H
BEGIN:VTIMEZONE
TZID:Europe/Paris
BEGIN:DAYLIGHT
TZOFFSETFROM:+0100
TZOFFSETTO:+0200
TZNAME:CEST
DTSTART:20240331T010000
END:DAYLIGHT
BEGIN:STANDARD
TZOFFSETFROM:+0200
TZOFFSETTO:+0100
TZNAME:CET
DTSTART:20241027T010000
END:STANDARD
BEGIN:DAYLIGHT
TZOFFSETFROM:+0100
TZOFFSETTO:+0200
TZNAME:CEST
DTSTART:20250330T010000
END:DAYLIGHT
BEGIN:STANDARD
TZOFFSETFROM:+0200
TZOFFSETTO:+0100
TZNAME:CET
DTSTART:20251026T010000
END:STANDARD
BEGIN:DAYLIGHT
TZOFFSETFROM:+0100
TZOFFSETTO:+0200
TZNAME:CEST
DTSTART:20260329T010000
END:DAYLIGHT
BEGIN:STANDARD
TZOFFSETFROM:+0200
TZOFFSETTO:+0100
TZNAME:CET
DTSTART:20261025T010000
END:STANDARD
END:VTIMEZONE
BEGIN:VEVENT
DTSTART;TZID=Europe/Paris:20250110T203000
DTEND;TZID=Europe/Paris:20250110T220000
DTSTAMP:20260421T235506
CREATED:20241220T132720Z
LAST-MODIFIED:20241230T121213Z
UID:10239-1736541000-1736546400@www.mairiedefuveau.fr
SUMMARY:Concert des profs
DESCRIPTION:Plaquette détaillée de la programmation : 2024-25 présentation saison version complète
URL:https://www.mairiedefuveau.fr/evenement/concert-des-profs-4/
CATEGORIES:Concert,Culture
ATTACH;FMTTYPE=image/jpeg:https://www.mairiedefuveau.fr/wp-content/uploads/2024/12/2025-01-10-concert-des-profs-A3-portrait-1.jpg
END:VEVENT
BEGIN:VEVENT
DTSTART;TZID=Europe/Paris:20250118T203000
DTEND;TZID=Europe/Paris:20250118T213000
DTSTAMP:20260421T235506
CREATED:20241220T133010Z
LAST-MODIFIED:20250106T105914Z
UID:10242-1737232200-1737235800@www.mairiedefuveau.fr
SUMMARY:Un océan d'amour
DESCRIPTION:Consultez l’ensemble des manifestations de la saison culturelle de janvier à mars 2025 ici : https://www.mairiedefuveau.fr/wp-content/uploads/2024/12/Programme-Culturel-janvier-mars-2025.pdf \nRéservez votre place : https://www.billetweb.fr/multi_event.php?multi=34458 \nPlaquette détaillée de la programmation : 2024-25 présentation saison version complète
URL:https://www.mairiedefuveau.fr/evenement/un-ocean-damour/
CATEGORIES:Concert,Culture
ATTACH;FMTTYPE=image/jpeg:https://www.mairiedefuveau.fr/wp-content/uploads/2025/01/2025-01-18-ocean-amour-bd-concert-20h30-scaled.jpg
END:VEVENT
END:VCALENDAR