BEGIN:VCALENDAR
VERSION:2.0
PRODID:-//Fuveau - ECPv6.15.17.1//NONSGML v1.0//EN
CALSCALE:GREGORIAN
METHOD:PUBLISH
X-ORIGINAL-URL:https://www.mairiedefuveau.fr
X-WR-CALDESC:Évènements pour Fuveau
REFRESH-INTERVAL;VALUE=DURATION:PT1H
X-Robots-Tag:noindex
X-PUBLISHED-TTL:PT1H
BEGIN:VTIMEZONE
TZID:Europe/Paris
BEGIN:DAYLIGHT
TZOFFSETFROM:+0100
TZOFFSETTO:+0200
TZNAME:CEST
DTSTART:20200329T010000
END:DAYLIGHT
BEGIN:STANDARD
TZOFFSETFROM:+0200
TZOFFSETTO:+0100
TZNAME:CET
DTSTART:20201025T010000
END:STANDARD
BEGIN:DAYLIGHT
TZOFFSETFROM:+0100
TZOFFSETTO:+0200
TZNAME:CEST
DTSTART:20210328T010000
END:DAYLIGHT
BEGIN:STANDARD
TZOFFSETFROM:+0200
TZOFFSETTO:+0100
TZNAME:CET
DTSTART:20211031T010000
END:STANDARD
BEGIN:DAYLIGHT
TZOFFSETFROM:+0100
TZOFFSETTO:+0200
TZNAME:CEST
DTSTART:20220327T010000
END:DAYLIGHT
BEGIN:STANDARD
TZOFFSETFROM:+0200
TZOFFSETTO:+0100
TZNAME:CET
DTSTART:20221030T010000
END:STANDARD
END:VTIMEZONE
BEGIN:VEVENT
DTSTART;TZID=Europe/Paris:20210709T210000
DTEND;TZID=Europe/Paris:20210714T180000
DTSTAMP:20260419T184008
CREATED:20210708T133859Z
LAST-MODIFIED:20210713T094352Z
UID:1959-1625864400-1626285600@www.mairiedefuveau.fr
SUMMARY:Programme du 14 juillet
DESCRIPTION:Cette année\, le Comité des Fêtes organise 6 jours de fête ! Du 9 au 14 juillet\, venez écouter\, voir ou participer aux différentes animations prévues sur le Cours Leydet. \nCompte tenu des conditions météorologiques\, le feu d’artifice prévu ce soir\, est reporté en septembre. \nLe 14 juillet\, nous vous donnons rendez-vous à 11h sur le parvis de la Mairie pour la cérémonie commémorative. Au programme : un défilé\, la commémoration suivie de la revue des véhicules. \n 
URL:https://www.mairiedefuveau.fr/evenement/programme-du-14-juillet/
CATEGORIES:Animation,Associations,Municipalité
ATTACH;FMTTYPE=image/jpeg:https://www.mairiedefuveau.fr/wp-content/uploads/2021/07/2021-07-14-programme-comite-des-fetes-scaled.jpg
END:VEVENT
END:VCALENDAR