BEGIN:VCALENDAR
VERSION:2.0
PRODID:-//Fuveau - ECPv6.15.17.1//NONSGML v1.0//EN
CALSCALE:GREGORIAN
METHOD:PUBLISH
X-ORIGINAL-URL:https://www.mairiedefuveau.fr
X-WR-CALDESC:Évènements pour Fuveau
REFRESH-INTERVAL;VALUE=DURATION:PT1H
X-Robots-Tag:noindex
X-PUBLISHED-TTL:PT1H
BEGIN:VTIMEZONE
TZID:Europe/Paris
BEGIN:DAYLIGHT
TZOFFSETFROM:+0100
TZOFFSETTO:+0200
TZNAME:CEST
DTSTART:20200329T010000
END:DAYLIGHT
BEGIN:STANDARD
TZOFFSETFROM:+0200
TZOFFSETTO:+0100
TZNAME:CET
DTSTART:20201025T010000
END:STANDARD
BEGIN:DAYLIGHT
TZOFFSETFROM:+0100
TZOFFSETTO:+0200
TZNAME:CEST
DTSTART:20210328T010000
END:DAYLIGHT
BEGIN:STANDARD
TZOFFSETFROM:+0200
TZOFFSETTO:+0100
TZNAME:CET
DTSTART:20211031T010000
END:STANDARD
BEGIN:DAYLIGHT
TZOFFSETFROM:+0100
TZOFFSETTO:+0200
TZNAME:CEST
DTSTART:20220327T010000
END:DAYLIGHT
BEGIN:STANDARD
TZOFFSETFROM:+0200
TZOFFSETTO:+0100
TZNAME:CET
DTSTART:20221030T010000
END:STANDARD
BEGIN:DAYLIGHT
TZOFFSETFROM:+0100
TZOFFSETTO:+0200
TZNAME:CEST
DTSTART:20230326T010000
END:DAYLIGHT
BEGIN:STANDARD
TZOFFSETFROM:+0200
TZOFFSETTO:+0100
TZNAME:CET
DTSTART:20231029T010000
END:STANDARD
BEGIN:DAYLIGHT
TZOFFSETFROM:+0100
TZOFFSETTO:+0200
TZNAME:CEST
DTSTART:20240331T010000
END:DAYLIGHT
BEGIN:STANDARD
TZOFFSETFROM:+0200
TZOFFSETTO:+0100
TZNAME:CET
DTSTART:20241027T010000
END:STANDARD
END:VTIMEZONE
BEGIN:VEVENT
DTSTART;TZID=Europe/Paris:20230902T080000
DTEND;TZID=Europe/Paris:20230902T170000
DTSTAMP:20260419T164930
CREATED:20230824T095932Z
LAST-MODIFIED:20230824T095933Z
UID:7005-1693641600-1693674000@www.mairiedefuveau.fr
SUMMARY:Forum des Associations
DESCRIPTION:
URL:https://www.mairiedefuveau.fr/evenement/forum-des-associations-2/
CATEGORIES:Animation,Associations,Municipalité
ATTACH;FMTTYPE=image/png:https://www.mairiedefuveau.fr/wp-content/uploads/2023/08/2023-09-02-Forum-des-Assos.png
END:VEVENT
BEGIN:VEVENT
DTSTART;TZID=Europe/Paris:20230831T080000
DTEND;TZID=Europe/Paris:20230930T170000
DTSTAMP:20260419T164930
CREATED:20230810T041119Z
LAST-MODIFIED:20230821T122314Z
UID:6975-1693468800-1696093200@www.mairiedefuveau.fr
SUMMARY:En septembre à Fuveau
DESCRIPTION:  \n  \n \n 
URL:https://www.mairiedefuveau.fr/evenement/en-septembre-a-fuveau/
CATEGORIES:Animation,Associations,Concert,Culture,Expo,Municipalité,Spectacle
ATTACH;FMTTYPE=image/png:https://www.mairiedefuveau.fr/wp-content/uploads/2023/08/Affiche_septembre_2023.png
END:VEVENT
BEGIN:VEVENT
DTSTART;TZID=Europe/Paris:20230831T080000
DTEND;TZID=Europe/Paris:20230903T180000
DTSTAMP:20260419T164930
CREATED:20230821T122547Z
LAST-MODIFIED:20230821T122548Z
UID:6997-1693468800-1693764000@www.mairiedefuveau.fr
SUMMARY:Weekend du 03 septembre
DESCRIPTION:
URL:https://www.mairiedefuveau.fr/evenement/weekend-du-03-septembre/
CATEGORIES:Animation,Associations,Expo,Municipalité
ATTACH;FMTTYPE=image/png:https://www.mairiedefuveau.fr/wp-content/uploads/2023/08/2022-08-Week-end-septembre-1.png
END:VEVENT
BEGIN:VEVENT
DTSTART;VALUE=DATE:20220713
DTEND;VALUE=DATE:20220821
DTSTAMP:20260419T164930
CREATED:20220608T131451Z
LAST-MODIFIED:20220712T071016Z
UID:4281-1657670400-1661039999@www.mairiedefuveau.fr
SUMMARY:Programme de l'été
DESCRIPTION:
URL:https://www.mairiedefuveau.fr/evenement/programme-de-lete/
CATEGORIES:Animation,Associations,Concert,Culture,Municipalité
ATTACH;FMTTYPE=image/jpeg:https://www.mairiedefuveau.fr/wp-content/uploads/2022/06/2022-07-11-Programme-Ete-2022-1-scaled.jpg
END:VEVENT
BEGIN:VEVENT
DTSTART;TZID=Europe/Paris:20220401T090000
DTEND;TZID=Europe/Paris:20220402T180000
DTSTAMP:20260419T164930
CREATED:20220328T145647Z
LAST-MODIFIED:20220328T145647Z
UID:3785-1648803600-1648922400@www.mairiedefuveau.fr
SUMMARY:Vente pour l'Ukraine
DESCRIPTION:Le Rotary Club Aix Ste Victoire organise une vente éphémère de vêtements. Les recettes seront destinées a une action en faveur de l’Ukraine.
URL:https://www.mairiedefuveau.fr/evenement/vente-pour-lukraine/
CATEGORIES:Associations
ATTACH;FMTTYPE=image/jpeg:https://www.mairiedefuveau.fr/wp-content/uploads/2022/03/FLYER-VENTE-EPHEMERE.jpg
END:VEVENT
BEGIN:VEVENT
DTSTART;VALUE=DATE:20220304
DTEND;VALUE=DATE:20220307
DTSTAMP:20260419T164930
CREATED:20220221T103013Z
LAST-MODIFIED:20220221T103259Z
UID:3465-1646352000-1646611199@www.mairiedefuveau.fr
SUMMARY:Collecte nationale - Restos du Coeur
DESCRIPTION:https://collecte.restosducoeur.org/
URL:https://www.mairiedefuveau.fr/evenement/collecte-nationale-restos-du-coeur/
CATEGORIES:Associations,Social
ATTACH;FMTTYPE=image/jpeg:https://www.mairiedefuveau.fr/wp-content/uploads/2022/02/Flyer_collecte_nationale_2022-Restos-du-coeur.jpg
END:VEVENT
BEGIN:VEVENT
DTSTART;VALUE=DATE:20211126
DTEND;VALUE=DATE:20211129
DTSTAMP:20260419T164930
CREATED:20211108T102528Z
LAST-MODIFIED:20211108T102528Z
UID:2757-1637884800-1638143999@www.mairiedefuveau.fr
SUMMARY:Collecte nationale de Banque Alimentaire
DESCRIPTION:Collecte Nationale des 26\, 27 et 28 novembre 2021\nSe nourrir dignement\nAvoir accès à une alimentation de qualité\, avoir le choix de manger équilibré quand le budget est serré\, c’est un enjeu quotidien pour un nombre croissant de personnes dans le besoin. \nCette année encore\, la collecte revêtira une importance particulière pour nous\, car les crises sanitaire et sociale liées à la Covid-19 ont fortement impacté notre activité\, avec un accroissement des volumes de produits distribués aux associations de solidarité de notre département. \nAussi nous faut-il impérativement trouver des aliments pour continuer à répondre à la demande pressante des familles en situation de précarité. \nUn rendez-vous avec le grand public\nChaque année à la fin du mois de novembre\, la Banque Alimentaire des Bouches du Rhône fait appel à la générosité du public. En 2020\, cet acte de générosité a représenté 350 tonnes de dons de produits\, soit l’équivalent de 700 000 repas offerts à environ 140 000 personnes de notre département que nous aidons au quotidien. L’objectif 2021 est de 380 tonnes\, l’équivalent de 760 000 repas. Nous souhaitons que comme en 2020 les consommateurs comprennent que pauvreté = générosité. \nUn acte citoyen : le don n’est pas financier mais alimentaire\nA l’occasion de leurs courses\, les consommateurs pourront offrir des produits manquant le plus tels que des conserves de légumes\, des conserves de poisson (thon\, sardines)\, de la farine\, de l’huile\, des pâtes\, du riz\, des légumes secs\, du sucre\, des aliments bébé (pots verre)\, ainsi que des produits d’hygiène corporelle. \nLes produits collectés pendant ces trois jours (denrées non périssables) viendront compléter la distribution effectuée toute l’année et soutenir nos approvisionnements\, en quantité mais surtout en diversité. \nCes produits seront redistribués en totalité au sein de notre département afin de permettre à nos 181 associations et CCAS partenaires d’assurer un accompagnement de qualité. \nUne grande chaîne de solidarité rassemblant près de 5000 bénévoles\n200 magasins des Bouches du Rhône accueilleront durant les trois journées\, près de 5 000 bénévoles occasionnels : familles\, amis\, associations partenaires\, clubs service (Rotary\, Lions…)\, jeunes d’Unis-Cité\, étudiants et lycéens\, nombreux autres volontaires… \nLe soutien attendu et les différentes tâches proposées\nNous faisons appel à la générosité des entreprises et organismes pour la mise à disposition de camions avec hayon\, avec ou sans chauffeur\, pour effectuer le ramassage des produits dans les magasins\, ou aider à leur transport. \nNous faisons appel à la bonne volonté des bénévoles pour aider à la distribution des sacs et collecter les produits dans un magasin proche du domicile (liste des magasins sur le site BA13)\, ou pour participer au tri des denrées à l’entrepôt (Master Park\, lots 17-18\, 116 bd de la Pomme\, Marseille 11e). \nMerci d’adresser vos offres de service à collecte@banquealimentaire13.fr (tél. 04 91 45 40 00) \nPlus d’infos : www.ba13.banquealimentaire.org
URL:https://www.mairiedefuveau.fr/evenement/collecte-nationale-de-banque-alimentaire/
CATEGORIES:Associations,Social
ATTACH;FMTTYPE=image/jpeg:https://www.mairiedefuveau.fr/wp-content/uploads/2021/11/2021-11-28-Banque-alimentaire.jpg
END:VEVENT
BEGIN:VEVENT
DTSTART;TZID=Europe/Paris:20210905T100000
DTEND;TZID=Europe/Paris:20210905T163000
DTSTAMP:20260419T164930
CREATED:20210827T130105Z
LAST-MODIFIED:20210901T143012Z
UID:2187-1630836000-1630859400@www.mairiedefuveau.fr
SUMMARY:Lancement Terre de Jeux 2024 - Fête du sport
DESCRIPTION:En présence d’un stand tenu par le Département des Bouches du Rhône \n \nLe pass sanitaire\, obligatoire pour les personnes majeures\, va être imposé sur les lieux suivants : \n\nLe Forum des associations sur le parking du Jeu de Boules\nLe Salon des écrivains sur le Cours Leydet\nLa partie Jeunesse / BD du Salon dans la Cour de la Mairie\nTerre de jeux 2024 au gymnase Font d’Aurumy\, parking du collège et Stade Paul Prieur\n\nQuand vous passerez un contrôle avec votre pass\, il vous sera remis un bracelet qui vous permettra d’accéder sans nouveau contrôle aux autres lieux et ce\, pour tout le week-end ! \nLe masque est obligatoire sur l’ensemble du centre-ville pour les plus de 11 ans. \n 
URL:https://www.mairiedefuveau.fr/evenement/lancement-terre-de-jeux-2024/
CATEGORIES:Animation,Associations,Municipalité
ATTACH;FMTTYPE=image/jpeg:https://www.mairiedefuveau.fr/wp-content/uploads/2021/08/2021-09-05-Programme-terre-de-jeux.jpg
END:VEVENT
BEGIN:VEVENT
DTSTART;TZID=Europe/Paris:20210904T090000
DTEND;TZID=Europe/Paris:20210904T173000
DTSTAMP:20260419T164930
CREATED:20210830T145824Z
LAST-MODIFIED:20210831T075215Z
UID:2193-1630746000-1630776600@www.mairiedefuveau.fr
SUMMARY:Forum des associations
DESCRIPTION:Organisé par la Mairie\, ce forum vous permet de découvrir le large choix d’activités proposées par les associations fuvelaines !\n\nRendez-vous samedi 4 septembre de 9h à 17h30 sur le parking du Jeu de Boules.\n\nVous pourrez même assister à des démonstrations entre 10h et 17h !\n\nLe pass sanitaire\, obligatoire pour les personnes majeures\, va être imposé sur les lieux suivants : \n\nLe Forum des associations sur le parking du Jeu de Boules\nLe Salon des écrivains sur le Cours Leydet\nLa partie Jeunesse / BD du Salon dans la Cour de la Mairie\nTerre de jeux 2024 au gymnase Font d’Aurumy\, parking du collège et Stade Paul Prieur\n\nQuand vous passerez un contrôle avec votre pass\, il vous sera remis un bracelet qui vous permettra d’accéder sans nouveau contrôle aux autres lieux et ce\, pour tout le week-end ! \nLe masque est obligatoire sur l’ensemble du centre-ville pour les plus de 11 ans.
URL:https://www.mairiedefuveau.fr/evenement/forum-des-associations/
CATEGORIES:Associations,Municipalité
ATTACH;FMTTYPE=image/jpeg:https://www.mairiedefuveau.fr/wp-content/uploads/2021/08/2021-09-04-Forum-des-associations-1-scaled.jpg
END:VEVENT
BEGIN:VEVENT
DTSTART;VALUE=DATE:20210902
DTEND;VALUE=DATE:20210906
DTSTAMP:20260419T164930
CREATED:20210813T060006Z
LAST-MODIFIED:20210831T080801Z
UID:2065-1630540800-1630886399@www.mairiedefuveau.fr
SUMMARY:Week-end des 4 et 5 septembre
DESCRIPTION:Comme chaque année\, le 1er week-end de septembre est animé !\n\nAu programme :  \n\nDu 2 au 5/09 : Salon Littéraire des Écrivains en Provence https://www.fuveau.com/\n\nLe samedi 4/09 : \n\nForum des Associations (parking du jeu de boules)\nVisite guidée du village avec Secret d’Ici www.fuveau-tourisme.com\n\nLes samedi 4 et dimanche 5/09 : Marché des Producteurs Locaux organisé par le Comité Saint Jean Saint Éloi\n\nLe dimanche 5/09 :\n\n\nOrchestre Philharmonique du Pays d’Aix à 16h30 (Cours Leydet)\nLancement de « Terre de Jeux 2024 »\n\nLe pass sanitaire\, obligatoire pour les personnes majeures\, va être imposé sur les lieux suivants : \n\nLe Forum des associations sur le parking du Jeu de Boules\nLe Salon des écrivains sur le Cours Leydet\nLa partie Jeunesse / BD du Salon dans la Cour de la Mairie\nTerre de jeux 2024 au gymnase Font d’Aurumy\, parking du collège et Stade Paul Prieur\n\nQuand vous passerez un contrôle avec votre pass\, il vous sera remis un bracelet qui vous permettra d’accéder sans nouveau contrôle aux autres lieux et ce\, pour tout le week-end ! \nLe masque est obligatoire sur l’ensemble du centre-ville pour les plus de 11 ans.
URL:https://www.mairiedefuveau.fr/evenement/week-end-des-4-et-5-septembre/
CATEGORIES:Animation,Associations,Municipalité
ATTACH;FMTTYPE=image/jpeg:https://www.mairiedefuveau.fr/wp-content/uploads/2021/07/2021-08-Forum-salon-foire-v2-scaled.jpg
END:VEVENT
BEGIN:VEVENT
DTSTART;TZID=Europe/Paris:20210709T210000
DTEND;TZID=Europe/Paris:20210714T180000
DTSTAMP:20260419T164930
CREATED:20210708T133859Z
LAST-MODIFIED:20210713T094352Z
UID:1959-1625864400-1626285600@www.mairiedefuveau.fr
SUMMARY:Programme du 14 juillet
DESCRIPTION:Cette année\, le Comité des Fêtes organise 6 jours de fête ! Du 9 au 14 juillet\, venez écouter\, voir ou participer aux différentes animations prévues sur le Cours Leydet. \nCompte tenu des conditions météorologiques\, le feu d’artifice prévu ce soir\, est reporté en septembre. \nLe 14 juillet\, nous vous donnons rendez-vous à 11h sur le parvis de la Mairie pour la cérémonie commémorative. Au programme : un défilé\, la commémoration suivie de la revue des véhicules. \n 
URL:https://www.mairiedefuveau.fr/evenement/programme-du-14-juillet/
CATEGORIES:Animation,Associations,Municipalité
ATTACH;FMTTYPE=image/jpeg:https://www.mairiedefuveau.fr/wp-content/uploads/2021/07/2021-07-14-programme-comite-des-fetes-scaled.jpg
END:VEVENT
END:VCALENDAR