BEGIN:VCALENDAR
VERSION:2.0
PRODID:-//Fuveau - ECPv6.15.17.1//NONSGML v1.0//EN
CALSCALE:GREGORIAN
METHOD:PUBLISH
X-WR-CALNAME:Fuveau
X-ORIGINAL-URL:https://www.mairiedefuveau.fr
X-WR-CALDESC:Évènements pour Fuveau
REFRESH-INTERVAL;VALUE=DURATION:PT1H
X-Robots-Tag:noindex
X-PUBLISHED-TTL:PT1H
BEGIN:VTIMEZONE
TZID:Europe/Paris
BEGIN:DAYLIGHT
TZOFFSETFROM:+0100
TZOFFSETTO:+0200
TZNAME:CEST
DTSTART:20230326T010000
END:DAYLIGHT
BEGIN:STANDARD
TZOFFSETFROM:+0200
TZOFFSETTO:+0100
TZNAME:CET
DTSTART:20231029T010000
END:STANDARD
BEGIN:DAYLIGHT
TZOFFSETFROM:+0100
TZOFFSETTO:+0200
TZNAME:CEST
DTSTART:20240331T010000
END:DAYLIGHT
BEGIN:STANDARD
TZOFFSETFROM:+0200
TZOFFSETTO:+0100
TZNAME:CET
DTSTART:20241027T010000
END:STANDARD
BEGIN:DAYLIGHT
TZOFFSETFROM:+0100
TZOFFSETTO:+0200
TZNAME:CEST
DTSTART:20250330T010000
END:DAYLIGHT
BEGIN:STANDARD
TZOFFSETFROM:+0200
TZOFFSETTO:+0100
TZNAME:CET
DTSTART:20251026T010000
END:STANDARD
END:VTIMEZONE
BEGIN:VEVENT
DTSTART;TZID=Europe/Paris:20240330T100000
DTEND;TZID=Europe/Paris:20240330T113000
DTSTAMP:20260424T174750
CREATED:20240311T154244Z
LAST-MODIFIED:20240325T080011Z
UID:8533-1711792800-1711798200@www.mairiedefuveau.fr
SUMMARY:Chasse aux oeufs
DESCRIPTION:COMPLET POUR LES 4 – 8 ANS\nLa mairie de Fuveau et l’ Office de Tourisme de Fuveau organisent une chasse aux œufs pour les enfants de 2 à 8 ans \nRendez-vous le samedi 30 mars au parc de la Chapelle St Michel\n A partir de 10h\nLes inscriptions se dérouleront du 23 au 29 mars directement à l’Office de Tourisme\nPour plus d’infos : accueil@fuveau-tourisme.com / 04 42 50 49 77
URL:https://www.mairiedefuveau.fr/evenement/chasse-aux-oeufs/
CATEGORIES:Animation,Enfance,Municipalité
ATTACH;FMTTYPE=image/jpeg:https://www.mairiedefuveau.fr/wp-content/uploads/2024/03/2024-03-30-Chasse-aux-oeufs-complet_Plan-de-travail-1-scaled.jpg
END:VEVENT
END:VCALENDAR